BEGIN:VCALENDAR
VERSION:2.0
PRODID:-//Samenwerkingsverband Onderwijs op Maat De Liemers - ECPv5.10.1//NONSGML v1.0//EN
CALSCALE:GREGORIAN
METHOD:PUBLISH
X-WR-CALNAME:Samenwerkingsverband Onderwijs op Maat De Liemers
X-ORIGINAL-URL:https://www.swvdeliemers-po.nl
X-WR-CALDESC:Evenementen voor Samenwerkingsverband Onderwijs op Maat De Liemers
BEGIN:VTIMEZONE
TZID:Europe/Paris
BEGIN:DAYLIGHT
TZOFFSETFROM:+0100
TZOFFSETTO:+0200
TZNAME:CEST
DTSTART:20250330T010000
END:DAYLIGHT
BEGIN:STANDARD
TZOFFSETFROM:+0200
TZOFFSETTO:+0100
TZNAME:CET
DTSTART:20251026T010000
END:STANDARD
END:VTIMEZONE
BEGIN:VEVENT
DTSTART;TZID=Europe/Paris:20250929T193000
DTEND;TZID=Europe/Paris:20250929T193000
DTSTAMP:20260423T034224
CREATED:20250912T194120Z
LAST-MODIFIED:20250923T151711Z
UID:6127-1759174200-1759174200@www.swvdeliemers-po.nl
SUMMARY:Training: kwaliteitskring voor beeldcoaches 1
DESCRIPTION:
URL:https://www.swvdeliemers-po.nl/index.php/event/training-kwaliteitskring-voor-beeldcoaches-1-lucy/
END:VEVENT
END:VCALENDAR