BEGIN:VCALENDAR
VERSION:2.0
PRODID:-//Samenwerkingsverband Onderwijs op Maat De Liemers - ECPv5.10.1//NONSGML v1.0//EN
CALSCALE:GREGORIAN
METHOD:PUBLISH
X-WR-CALNAME:Samenwerkingsverband Onderwijs op Maat De Liemers
X-ORIGINAL-URL:https://www.swvdeliemers-po.nl
X-WR-CALDESC:Evenementen voor Samenwerkingsverband Onderwijs op Maat De Liemers
BEGIN:VTIMEZONE
TZID:Europe/Paris
BEGIN:DAYLIGHT
TZOFFSETFROM:+0100
TZOFFSETTO:+0200
TZNAME:CEST
DTSTART:20210328T010000
END:DAYLIGHT
BEGIN:STANDARD
TZOFFSETFROM:+0200
TZOFFSETTO:+0100
TZNAME:CET
DTSTART:20211031T010000
END:STANDARD
END:VTIMEZONE
BEGIN:VEVENT
DTSTART;TZID=Europe/Paris:20211012T153000
DTEND;TZID=Europe/Paris:20211012T170000
DTSTAMP:20260424T121859
CREATED:20220112T085200Z
LAST-MODIFIED:20220112T085200Z
UID:4412-1634052600-1634058000@www.swvdeliemers-po.nl
SUMMARY:Netwerk rekenen
DESCRIPTION:
URL:https://www.swvdeliemers-po.nl/index.php/event/netwerk-rekenen/
END:VEVENT
END:VCALENDAR