BEGIN:VCALENDAR
VERSION:2.0
PRODID:-//Samenwerkingsverband Onderwijs op Maat De Liemers - ECPv5.10.1//NONSGML v1.0//EN
CALSCALE:GREGORIAN
METHOD:PUBLISH
X-WR-CALNAME:Samenwerkingsverband Onderwijs op Maat De Liemers
X-ORIGINAL-URL:https://www.swvdeliemers-po.nl
X-WR-CALDESC:Evenementen voor Samenwerkingsverband Onderwijs op Maat De Liemers
BEGIN:VTIMEZONE

END:VTIMEZONE
BEGIN:VEVENT
DTSTART;TZID=Europe/Paris:20260424T181814
DTEND;TZID=Europe/Paris:20260424T181814
DTSTAMP:20260424T181814
CREATED:20240904T101522Z
LAST-MODIFIED:20240904T101522Z
UID:5721-0-0@www.swvdeliemers-po.nl
SUMMARY:Kenniskring gedragsspecialisten
DESCRIPTION:
URL:https://www.swvdeliemers-po.nl/index.php/event/kenniskring-gedragsspecialisten-2/
END:VEVENT
END:VCALENDAR