BEGIN:VCALENDAR
VERSION:2.0
PRODID:-//Samenwerkingsverband Onderwijs op Maat De Liemers - ECPv5.10.1//NONSGML v1.0//EN
CALSCALE:GREGORIAN
METHOD:PUBLISH
X-WR-CALNAME:Samenwerkingsverband Onderwijs op Maat De Liemers
X-ORIGINAL-URL:https://www.swvdeliemers-po.nl
X-WR-CALDESC:Evenementen voor Samenwerkingsverband Onderwijs op Maat De Liemers
BEGIN:VTIMEZONE

END:VTIMEZONE
BEGIN:VEVENT
DTSTART;VALUE=DATE:20260424
DTEND;VALUE=DATE:19700102
DTSTAMP:20260424T175300
CREATED:20240904T101625Z
LAST-MODIFIED:20240904T101625Z
UID:5736-0-86399@www.swvdeliemers-po.nl
SUMMARY:Aanmeldingen Leerplein binnen zijn
DESCRIPTION:
URL:https://www.swvdeliemers-po.nl/index.php/event/aanmeldingen-leerplein-binnen-zijn-2/
END:VEVENT
END:VCALENDAR