BEGIN:VCALENDAR
VERSION:2.0
PRODID:-//Samenwerkingsverband Onderwijs op Maat De Liemers - ECPv5.10.1//NONSGML v1.0//EN
CALSCALE:GREGORIAN
METHOD:PUBLISH
X-WR-CALNAME:Samenwerkingsverband Onderwijs op Maat De Liemers
X-ORIGINAL-URL:https://www.swvdeliemers-po.nl
X-WR-CALDESC:Evenementen voor Samenwerkingsverband Onderwijs op Maat De Liemers
BEGIN:VTIMEZONE
TZID:Europe/Paris
BEGIN:DAYLIGHT
TZOFFSETFROM:+0100
TZOFFSETTO:+0200
TZNAME:CEST
DTSTART:20260329T010000
END:DAYLIGHT
BEGIN:STANDARD
TZOFFSETFROM:+0200
TZOFFSETTO:+0100
TZNAME:CET
DTSTART:20261025T010000
END:STANDARD
END:VTIMEZONE
BEGIN:VEVENT
DTSTART;VALUE=DATE:20260418
DTEND;VALUE=DATE:20260506
DTSTAMP:20260422T104136
CREATED:20250912T194435Z
LAST-MODIFIED:20250912T194435Z
UID:6192-1776470400-1778025599@www.swvdeliemers-po.nl
SUMMARY:MEIVAKANTIE
DESCRIPTION:
URL:https://www.swvdeliemers-po.nl/index.php/event/meivakantie-5/
END:VEVENT
BEGIN:VEVENT
DTSTART;VALUE=DATE:20260514
DTEND;VALUE=DATE:20260518
DTSTAMP:20260422T104136
CREATED:20250912T194449Z
LAST-MODIFIED:20250912T194449Z
UID:6195-1778716800-1779062399@www.swvdeliemers-po.nl
SUMMARY:HEMELVAART
DESCRIPTION:
URL:https://www.swvdeliemers-po.nl/index.php/event/hemelvaart-3/
END:VEVENT
BEGIN:VEVENT
DTSTART;TZID=Europe/Paris:20260520T120000
DTEND;TZID=Europe/Paris:20260520T120000
DTSTAMP:20260422T104136
CREATED:20250912T194504Z
LAST-MODIFIED:20250912T194504Z
UID:6197-1779278400-1779278400@www.swvdeliemers-po.nl
SUMMARY:CLO
DESCRIPTION:
URL:https://www.swvdeliemers-po.nl/index.php/event/clo-35/
END:VEVENT
BEGIN:VEVENT
DTSTART;TZID=Europe/Paris:20260520T160000
DTEND;TZID=Europe/Paris:20260520T160000
DTSTAMP:20260422T104136
CREATED:20250912T194504Z
LAST-MODIFIED:20250923T152743Z
UID:6198-1779292800-1779292800@www.swvdeliemers-po.nl
SUMMARY:Training Systemisch werken 5
DESCRIPTION:
URL:https://www.swvdeliemers-po.nl/index.php/event/training-sw5-lucy/
END:VEVENT
BEGIN:VEVENT
DTSTART;VALUE=DATE:20260525
DTEND;VALUE=DATE:20260526
DTSTAMP:20260422T104136
CREATED:20250912T194504Z
LAST-MODIFIED:20250912T194504Z
UID:6199-1779667200-1779753599@www.swvdeliemers-po.nl
SUMMARY:2E PINKSTERDAG
DESCRIPTION:
URL:https://www.swvdeliemers-po.nl/index.php/event/2e-pinksterdag-5/
END:VEVENT
BEGIN:VEVENT
DTSTART;TZID=Europe/Paris:20260527T143000
DTEND;TZID=Europe/Paris:20260527T143000
DTSTAMP:20260422T104136
CREATED:20250912T194519Z
LAST-MODIFIED:20250912T194519Z
UID:6202-1779892200-1779892200@www.swvdeliemers-po.nl
SUMMARY:Overleg HB Vliegwiel
DESCRIPTION:
URL:https://www.swvdeliemers-po.nl/index.php/event/overleg-hb-vliegwiel-4/
END:VEVENT
BEGIN:VEVENT
DTSTART;TZID=Europe/Paris:20260528T090000
DTEND;TZID=Europe/Paris:20260528T090000
DTSTAMP:20260422T104136
CREATED:20250912T194519Z
LAST-MODIFIED:20250912T194519Z
UID:6203-1779958800-1779958800@www.swvdeliemers-po.nl
SUMMARY:Werkgroep Ontwikkelcentrum
DESCRIPTION:
URL:https://www.swvdeliemers-po.nl/index.php/event/werkgroep-ontwikkelcentrum-2/
END:VEVENT
END:VCALENDAR