BEGIN:VCALENDAR
VERSION:2.0
PRODID:-//Samenwerkingsverband Onderwijs op Maat De Liemers - ECPv5.10.1//NONSGML v1.0//EN
CALSCALE:GREGORIAN
METHOD:PUBLISH
X-WR-CALNAME:Samenwerkingsverband Onderwijs op Maat De Liemers
X-ORIGINAL-URL:https://www.swvdeliemers-po.nl
X-WR-CALDESC:Evenementen voor Samenwerkingsverband Onderwijs op Maat De Liemers
BEGIN:VTIMEZONE
TZID:Europe/Paris
BEGIN:DAYLIGHT
TZOFFSETFROM:+0100
TZOFFSETTO:+0200
TZNAME:CEST
DTSTART:20240331T010000
END:DAYLIGHT
BEGIN:STANDARD
TZOFFSETFROM:+0200
TZOFFSETTO:+0100
TZNAME:CET
DTSTART:20241027T010000
END:STANDARD
BEGIN:DAYLIGHT
TZOFFSETFROM:+0100
TZOFFSETTO:+0200
TZNAME:CEST
DTSTART:20250330T010000
END:DAYLIGHT
BEGIN:STANDARD
TZOFFSETFROM:+0200
TZOFFSETTO:+0100
TZNAME:CET
DTSTART:20251026T010000
END:STANDARD
END:VTIMEZONE
BEGIN:VEVENT
DTSTART;VALUE=DATE:20241223
DTEND;VALUE=DATE:20250106
DTSTAMP:20260422T155252
CREATED:20240904T101426Z
LAST-MODIFIED:20240904T101426Z
UID:5694-1734912000-1736121599@www.swvdeliemers-po.nl
SUMMARY:Kerstvakantie
DESCRIPTION:
URL:https://www.swvdeliemers-po.nl/index.php/event/kerstvakantie-5/
END:VEVENT
BEGIN:VEVENT
DTSTART;TZID=Europe/Paris:20250108T153000
DTEND;TZID=Europe/Paris:20250108T210000
DTSTAMP:20260422T155252
CREATED:20240904T101426Z
LAST-MODIFIED:20240904T101426Z
UID:5695-1736350200-1736370000@www.swvdeliemers-po.nl
SUMMARY:ITTT 3.1
DESCRIPTION:
URL:https://www.swvdeliemers-po.nl/index.php/event/ittt-3-1/
END:VEVENT
BEGIN:VEVENT
DTSTART;VALUE=DATE:20250114
DTEND;VALUE=DATE:20250115
DTSTAMP:20260422T155252
CREATED:20240904T101426Z
LAST-MODIFIED:20240904T101426Z
UID:5696-1736812800-1736899199@www.swvdeliemers-po.nl
SUMMARY:Aanmeldingen Leerplein binnen zijn
DESCRIPTION:
URL:https://www.swvdeliemers-po.nl/index.php/event/aanmeldingen-leerplein-binnen-zijn/
END:VEVENT
BEGIN:VEVENT
DTSTART;TZID=Europe/Paris:20250115T160000
DTEND;TZID=Europe/Paris:20250115T200000
DTSTAMP:20260422T155252
CREATED:20240904T101426Z
LAST-MODIFIED:20240904T101426Z
UID:5697-1736956800-1736971200@www.swvdeliemers-po.nl
SUMMARY:Lesgeven aan getraumatiseerde kinderen
DESCRIPTION:
URL:https://www.swvdeliemers-po.nl/index.php/event/lesgeven-aan-getraumatiseerde-kinderen/
END:VEVENT
BEGIN:VEVENT
DTSTART;TZID=Europe/Paris:20250116T150000
DTEND;TZID=Europe/Paris:20250116T170000
DTSTAMP:20260422T155252
CREATED:20240904T101441Z
LAST-MODIFIED:20240904T101441Z
UID:5698-1737039600-1737046800@www.swvdeliemers-po.nl
SUMMARY:Netwerk bijeenkomst HB
DESCRIPTION:
URL:https://www.swvdeliemers-po.nl/index.php/event/netwerk-bijeenkomst-hb-2/
END:VEVENT
BEGIN:VEVENT
DTSTART;TZID=Europe/Paris:20250120T150000
DTEND;TZID=Europe/Paris:20250120T163000
DTSTAMP:20260422T155252
CREATED:20240904T101441Z
LAST-MODIFIED:20240904T101441Z
UID:5699-1737385200-1737390600@www.swvdeliemers-po.nl
SUMMARY:Kwaliteitskring lezen/spelling
DESCRIPTION:
URL:https://www.swvdeliemers-po.nl/index.php/event/kwaliteitskring-lezen-spelling-2/
END:VEVENT
BEGIN:VEVENT
DTSTART;TZID=Europe/Paris:20250122T120000
DTEND;TZID=Europe/Paris:20250122T170000
DTSTAMP:20260422T155252
CREATED:20240904T101441Z
LAST-MODIFIED:20240904T101441Z
UID:5700-1737547200-1737565200@www.swvdeliemers-po.nl
SUMMARY:CLO
DESCRIPTION:
URL:https://www.swvdeliemers-po.nl/index.php/event/clo-18/
END:VEVENT
BEGIN:VEVENT
DTSTART;TZID=Europe/Paris:20250127T160000
DTEND;TZID=Europe/Paris:20250127T173000
DTSTAMP:20260422T155252
CREATED:20240904T101441Z
LAST-MODIFIED:20240904T101441Z
UID:5701-1737993600-1737999000@www.swvdeliemers-po.nl
SUMMARY:Netwerk Jonge Kind
DESCRIPTION:
URL:https://www.swvdeliemers-po.nl/index.php/event/netwerk-jonge-kind-2/
END:VEVENT
BEGIN:VEVENT
DTSTART;TZID=Europe/Paris:20250129T083000
DTEND;TZID=Europe/Paris:20250129T130000
DTSTAMP:20260422T155252
CREATED:20240904T101441Z
LAST-MODIFIED:20240904T101441Z
UID:5702-1738139400-1738155600@www.swvdeliemers-po.nl
SUMMARY:IB netwerk
DESCRIPTION:
URL:https://www.swvdeliemers-po.nl/index.php/event/ib-netwerk-7/
END:VEVENT
BEGIN:VEVENT
DTSTART;TZID=Europe/Paris:20250129T171500
DTEND;TZID=Europe/Paris:20250129T193000
DTSTAMP:20260422T155252
CREATED:20240904T101453Z
LAST-MODIFIED:20240904T101453Z
UID:5703-1738170900-1738179000@www.swvdeliemers-po.nl
SUMMARY:Opleiding tot BeeldCoach 2.5 (2e jaar)
DESCRIPTION:
URL:https://www.swvdeliemers-po.nl/index.php/event/opleiding-tot-beeldcoach-2-5-2e-jaar/
END:VEVENT
END:VCALENDAR