BEGIN:VCALENDAR
VERSION:2.0
PRODID:-//Samenwerkingsverband Onderwijs op Maat De Liemers - ECPv5.10.1//NONSGML v1.0//EN
CALSCALE:GREGORIAN
METHOD:PUBLISH
X-WR-CALNAME:Samenwerkingsverband Onderwijs op Maat De Liemers
X-ORIGINAL-URL:https://www.swvdeliemers-po.nl
X-WR-CALDESC:Evenementen voor Samenwerkingsverband Onderwijs op Maat De Liemers
BEGIN:VTIMEZONE
TZID:Europe/Paris
BEGIN:DAYLIGHT
TZOFFSETFROM:+0100
TZOFFSETTO:+0200
TZNAME:CEST
DTSTART:20240331T010000
END:DAYLIGHT
BEGIN:STANDARD
TZOFFSETFROM:+0200
TZOFFSETTO:+0100
TZNAME:CET
DTSTART:20241027T010000
END:STANDARD
END:VTIMEZONE
BEGIN:VEVENT
DTSTART;TZID=Europe/Paris:20241106T120000
DTEND;TZID=Europe/Paris:20241106T170000
DTSTAMP:20260422T104127
CREATED:20240904T101356Z
LAST-MODIFIED:20240904T101356Z
UID:5684-1730894400-1730912400@www.swvdeliemers-po.nl
SUMMARY:CLO
DESCRIPTION:
URL:https://www.swvdeliemers-po.nl/index.php/event/clo-15/
END:VEVENT
BEGIN:VEVENT
DTSTART;TZID=Europe/Paris:20241106T160000
DTEND;TZID=Europe/Paris:20241106T203000
DTSTAMP:20260422T104127
CREATED:20240904T101356Z
LAST-MODIFIED:20240904T101356Z
UID:5685-1730908800-1730925000@www.swvdeliemers-po.nl
SUMMARY:Supervisie voor spec. in communicatie
DESCRIPTION:
URL:https://www.swvdeliemers-po.nl/index.php/event/supervisie-voor-spec-in-communicatie/
END:VEVENT
BEGIN:VEVENT
DTSTART;TZID=Europe/Paris:20241111T193000
DTEND;TZID=Europe/Paris:20241111T213000
DTSTAMP:20260422T104127
CREATED:20240904T101356Z
LAST-MODIFIED:20240904T101356Z
UID:5686-1731353400-1731360600@www.swvdeliemers-po.nl
SUMMARY:Kenniskring Beeldcoach
DESCRIPTION:
URL:https://www.swvdeliemers-po.nl/index.php/event/kenniskring-beeldcoach-2/
END:VEVENT
BEGIN:VEVENT
DTSTART;TZID=Europe/Paris:20241113T084500
DTEND;TZID=Europe/Paris:20241113T123000
DTSTAMP:20260422T104127
CREATED:20240904T101356Z
LAST-MODIFIED:20240904T101356Z
UID:5687-1731487500-1731501000@www.swvdeliemers-po.nl
SUMMARY:Directeurenochtend
DESCRIPTION:
URL:https://www.swvdeliemers-po.nl/index.php/event/directeurenochtend-2/
END:VEVENT
BEGIN:VEVENT
DTSTART;TZID=Europe/Paris:20241113T153000
DTEND;TZID=Europe/Paris:20241113T210000
DTSTAMP:20260422T104127
CREATED:20240904T101410Z
LAST-MODIFIED:20240904T101410Z
UID:5688-1731511800-1731531600@www.swvdeliemers-po.nl
SUMMARY:ITTT 2.2
DESCRIPTION:
URL:https://www.swvdeliemers-po.nl/index.php/event/ittt-2-2/
END:VEVENT
BEGIN:VEVENT
DTSTART;TZID=Europe/Paris:20241127T120000
DTEND;TZID=Europe/Paris:20241127T170000
DTSTAMP:20260422T104127
CREATED:20240904T101411Z
LAST-MODIFIED:20240904T101411Z
UID:5689-1732708800-1732726800@www.swvdeliemers-po.nl
SUMMARY:CLO
DESCRIPTION:
URL:https://www.swvdeliemers-po.nl/index.php/event/clo-16/
END:VEVENT
BEGIN:VEVENT
DTSTART;TZID=Europe/Paris:20241127T171500
DTEND;TZID=Europe/Paris:20241127T193000
DTSTAMP:20260422T104127
CREATED:20240904T101411Z
LAST-MODIFIED:20240904T101411Z
UID:5690-1732727700-1732735800@www.swvdeliemers-po.nl
SUMMARY:Opleiding tot BeeldCoach 2.3 (2e jaar)
DESCRIPTION:
URL:https://www.swvdeliemers-po.nl/index.php/event/opleiding-tot-beeldcoach-2-3-2e-jaar/
END:VEVENT
END:VCALENDAR