BEGIN:VCALENDAR
VERSION:2.0
PRODID:-//Samenwerkingsverband Onderwijs op Maat De Liemers - ECPv5.10.1//NONSGML v1.0//EN
CALSCALE:GREGORIAN
METHOD:PUBLISH
X-WR-CALNAME:Samenwerkingsverband Onderwijs op Maat De Liemers
X-ORIGINAL-URL:https://www.swvdeliemers-po.nl
X-WR-CALDESC:Evenementen voor Samenwerkingsverband Onderwijs op Maat De Liemers
BEGIN:VTIMEZONE
TZID:Europe/Paris
BEGIN:DAYLIGHT
TZOFFSETFROM:+0100
TZOFFSETTO:+0200
TZNAME:CEST
DTSTART:20230326T010000
END:DAYLIGHT
BEGIN:STANDARD
TZOFFSETFROM:+0200
TZOFFSETTO:+0100
TZNAME:CET
DTSTART:20231029T010000
END:STANDARD
END:VTIMEZONE
BEGIN:VEVENT
DTSTART;TZID=Europe/Paris:20230605T193000
DTEND;TZID=Europe/Paris:20230605T213000
DTSTAMP:20260423T102815
CREATED:20220926T150111Z
LAST-MODIFIED:20220926T150111Z
UID:4918-1685993400-1686000600@www.swvdeliemers-po.nl
SUMMARY:Kenniskring Beeldcoaches
DESCRIPTION:
URL:https://www.swvdeliemers-po.nl/index.php/event/kenniskring-beeldcoaches-4/
END:VEVENT
BEGIN:VEVENT
DTSTART;VALUE=DATE:20230602
DTEND;VALUE=DATE:20230603
DTSTAMP:20260423T102815
CREATED:20220926T150056Z
LAST-MODIFIED:20220926T150056Z
UID:4917-1685664000-1685750399@www.swvdeliemers-po.nl
SUMMARY:Eindcertificering Beeldcoaching BOZ deel 3
DESCRIPTION:
URL:https://www.swvdeliemers-po.nl/index.php/event/eindcertificering-beeldcoaching-boz-deel-3/
END:VEVENT
BEGIN:VEVENT
DTSTART;VALUE=DATE:20230529
DTEND;VALUE=DATE:20230530
DTSTAMP:20260423T102815
CREATED:20220926T150056Z
LAST-MODIFIED:20220926T150056Z
UID:4916-1685318400-1685404799@www.swvdeliemers-po.nl
SUMMARY:2e Pinksterdag
DESCRIPTION:
URL:https://www.swvdeliemers-po.nl/index.php/event/2e-pinksterdag-2/
END:VEVENT
BEGIN:VEVENT
DTSTART;TZID=Europe/Paris:20230525T193000
DTEND;TZID=Europe/Paris:20230525T220000
DTSTAMP:20260423T102815
CREATED:20220926T150056Z
LAST-MODIFIED:20220926T150056Z
UID:4915-1685043000-1685052000@www.swvdeliemers-po.nl
SUMMARY:OPR
DESCRIPTION:
URL:https://www.swvdeliemers-po.nl/index.php/event/opr-5/
END:VEVENT
BEGIN:VEVENT
DTSTART;TZID=Europe/Paris:20230524T153000
DTEND;TZID=Europe/Paris:20230524T210000
DTSTAMP:20260423T102815
CREATED:20220926T150056Z
LAST-MODIFIED:20220926T150056Z
UID:4914-1684942200-1684962000@www.swvdeliemers-po.nl
SUMMARY:ITTTT 5 Ik zie
DESCRIPTION:ik zie
URL:https://www.swvdeliemers-po.nl/index.php/event/itttt-5-ik-zie/
END:VEVENT
BEGIN:VEVENT
DTSTART;VALUE=DATE:20230519
DTEND;VALUE=DATE:20230520
DTSTAMP:20260423T102815
CREATED:20220926T150056Z
LAST-MODIFIED:20220926T150056Z
UID:4913-1684454400-1684540799@www.swvdeliemers-po.nl
SUMMARY:Vrij
DESCRIPTION:
URL:https://www.swvdeliemers-po.nl/index.php/event/vrij/
END:VEVENT
BEGIN:VEVENT
DTSTART;VALUE=DATE:20230518
DTEND;VALUE=DATE:20230519
DTSTAMP:20260423T102815
CREATED:20220926T150010Z
LAST-MODIFIED:20220926T150010Z
UID:4912-1684368000-1684454399@www.swvdeliemers-po.nl
SUMMARY:Hemelvaart
DESCRIPTION:
URL:https://www.swvdeliemers-po.nl/index.php/event/hemelvaart-2/
END:VEVENT
BEGIN:VEVENT
DTSTART;TZID=Europe/Paris:20230517T191500
DTEND;TZID=Europe/Paris:20230517T211500
DTSTAMP:20260423T102815
CREATED:20220926T150010Z
LAST-MODIFIED:20220926T150010Z
UID:4910-1684350900-1684358100@www.swvdeliemers-po.nl
SUMMARY:Beeldcoaching 3
DESCRIPTION:
URL:https://www.swvdeliemers-po.nl/index.php/event/beeldcoaching-3-8/
END:VEVENT
BEGIN:VEVENT
DTSTART;TZID=Europe/Paris:20230517T090000
DTEND;TZID=Europe/Paris:20230517T124500
DTSTAMP:20260423T102815
CREATED:20220926T150010Z
LAST-MODIFIED:20220926T150010Z
UID:4911-1684314000-1684327500@www.swvdeliemers-po.nl
SUMMARY:IB netwerk
DESCRIPTION:
URL:https://www.swvdeliemers-po.nl/index.php/event/ib-netwerk-5/
END:VEVENT
BEGIN:VEVENT
DTSTART;TZID=Europe/Paris:20230508T160000
DTEND;TZID=Europe/Paris:20230508T200000
DTSTAMP:20260423T102815
CREATED:20220926T150010Z
LAST-MODIFIED:20220926T150010Z
UID:4909-1683561600-1683576000@www.swvdeliemers-po.nl
SUMMARY:Training Systemisch Specialist 5
DESCRIPTION:
URL:https://www.swvdeliemers-po.nl/index.php/event/training-systemisch-specialist-5/
END:VEVENT
BEGIN:VEVENT
DTSTART;VALUE=DATE:20230501
DTEND;VALUE=DATE:20230502
DTSTAMP:20260423T102815
CREATED:20220926T150010Z
LAST-MODIFIED:20220926T150010Z
UID:4908-1682899200-1682985599@www.swvdeliemers-po.nl
SUMMARY:Meivakantie t/m 5 mei
DESCRIPTION:
URL:https://www.swvdeliemers-po.nl/index.php/event/meivakantie-t-m-5-mei-2/
END:VEVENT
BEGIN:VEVENT
DTSTART;VALUE=DATE:20230424
DTEND;VALUE=DATE:20230425
DTSTAMP:20260423T102815
CREATED:20220926T145955Z
LAST-MODIFIED:20220926T145955Z
UID:4907-1682294400-1682380799@www.swvdeliemers-po.nl
SUMMARY:Meivakantie t/m 5 mei
DESCRIPTION:
URL:https://www.swvdeliemers-po.nl/index.php/event/meivakantie-t-m-5-mei/
END:VEVENT
BEGIN:VEVENT
DTSTART;TZID=Europe/Paris:20230419T153000
DTEND;TZID=Europe/Paris:20230419T210000
DTSTAMP:20260423T102815
CREATED:20220926T145955Z
LAST-MODIFIED:20220926T145955Z
UID:4906-1681918200-1681938000@www.swvdeliemers-po.nl
SUMMARY:ITTTT 4 talent/DD
DESCRIPTION:
URL:https://www.swvdeliemers-po.nl/index.php/event/itttt-4-talent-dd/
END:VEVENT
BEGIN:VEVENT
DTSTART;TZID=Europe/Paris:20230412T191500
DTEND;TZID=Europe/Paris:20230412T211500
DTSTAMP:20260423T102815
CREATED:20220926T145955Z
LAST-MODIFIED:20220926T145955Z
UID:4904-1681326900-1681334100@www.swvdeliemers-po.nl
SUMMARY:Beeldcoaching 3
DESCRIPTION:
URL:https://www.swvdeliemers-po.nl/index.php/event/beeldcoaching-3-7/
END:VEVENT
BEGIN:VEVENT
DTSTART;TZID=Europe/Paris:20230412T144500
DTEND;TZID=Europe/Paris:20230412T164500
DTSTAMP:20260423T102815
CREATED:20230112T081532Z
LAST-MODIFIED:20230112T081532Z
UID:4976-1681310700-1681317900@www.swvdeliemers-po.nl
SUMMARY:Kwaliteitskring Gedrag
DESCRIPTION:
URL:https://www.swvdeliemers-po.nl/index.php/event/kwaliteitskring-gedrag-2/
END:VEVENT
BEGIN:VEVENT
DTSTART;TZID=Europe/Paris:20230412T090000
DTEND;TZID=Europe/Paris:20230412T130000
DTSTAMP:20260423T102815
CREATED:20220926T145955Z
LAST-MODIFIED:20220926T145955Z
UID:4905-1681290000-1681304400@www.swvdeliemers-po.nl
SUMMARY:Studieochtend directeuren
DESCRIPTION:
URL:https://www.swvdeliemers-po.nl/index.php/event/studieochtend-directeuren/
END:VEVENT
BEGIN:VEVENT
DTSTART;VALUE=DATE:20230410
DTEND;VALUE=DATE:20230411
DTSTAMP:20260423T102815
CREATED:20220926T145955Z
LAST-MODIFIED:20220926T145955Z
UID:4903-1681084800-1681171199@www.swvdeliemers-po.nl
SUMMARY:2e paasdag
DESCRIPTION:
URL:https://www.swvdeliemers-po.nl/index.php/event/2e-paasdag-2/
END:VEVENT
BEGIN:VEVENT
DTSTART;VALUE=DATE:20230407
DTEND;VALUE=DATE:20230408
DTSTAMP:20260423T102815
CREATED:20220926T145940Z
LAST-MODIFIED:20220926T145940Z
UID:4902-1680825600-1680911999@www.swvdeliemers-po.nl
SUMMARY:Goede vrijdag
DESCRIPTION:
URL:https://www.swvdeliemers-po.nl/index.php/event/goede-vrijdag-2/
END:VEVENT
BEGIN:VEVENT
DTSTART;TZID=Europe/Paris:20230405T150000
DTEND;TZID=Europe/Paris:20230405T170000
DTSTAMP:20260423T102815
CREATED:20220926T145940Z
LAST-MODIFIED:20220926T145940Z
UID:4901-1680706800-1680714000@www.swvdeliemers-po.nl
SUMMARY:Taakspel Generalisatiefase
DESCRIPTION:
URL:https://www.swvdeliemers-po.nl/index.php/event/taakspel-generalisatiefase/
END:VEVENT
BEGIN:VEVENT
DTSTART;TZID=Europe/Paris:20230322T153000
DTEND;TZID=Europe/Paris:20230322T210000
DTSTAMP:20260423T102815
CREATED:20220926T145940Z
LAST-MODIFIED:20220926T145940Z
UID:4900-1679499000-1679518800@www.swvdeliemers-po.nl
SUMMARY:ITTTT 3 NLP
DESCRIPTION:
URL:https://www.swvdeliemers-po.nl/index.php/event/itttt-3-nlp/
END:VEVENT
BEGIN:VEVENT
DTSTART;TZID=Europe/Paris:20230320T193000
DTEND;TZID=Europe/Paris:20230320T213000
DTSTAMP:20260423T102815
CREATED:20220926T145940Z
LAST-MODIFIED:20220926T145940Z
UID:4899-1679340600-1679347800@www.swvdeliemers-po.nl
SUMMARY:Kenniskring Beeldcoaches
DESCRIPTION:
URL:https://www.swvdeliemers-po.nl/index.php/event/kenniskring-beeldcoaches-3/
END:VEVENT
BEGIN:VEVENT
DTSTART;TZID=Europe/Paris:20230316T193000
DTEND;TZID=Europe/Paris:20230316T213000
DTSTAMP:20260423T102815
CREATED:20220926T145940Z
LAST-MODIFIED:20220926T145940Z
UID:4898-1678995000-1679002200@www.swvdeliemers-po.nl
SUMMARY:OPR
DESCRIPTION:
URL:https://www.swvdeliemers-po.nl/index.php/event/opr-4/
END:VEVENT
BEGIN:VEVENT
DTSTART;TZID=Europe/Paris:20230308T160000
DTEND;TZID=Europe/Paris:20230308T203000
DTSTAMP:20260423T102815
CREATED:20220926T145925Z
LAST-MODIFIED:20220926T145925Z
UID:4897-1678291200-1678307400@www.swvdeliemers-po.nl
SUMMARY:Supervisie GroepsGeluk
DESCRIPTION:
URL:https://www.swvdeliemers-po.nl/index.php/event/supervisie-groepsgeluk-2/
END:VEVENT
BEGIN:VEVENT
DTSTART;TZID=Europe/Paris:20230301T191500
DTEND;TZID=Europe/Paris:20230301T211500
DTSTAMP:20260423T102815
CREATED:20220926T145925Z
LAST-MODIFIED:20220926T145925Z
UID:4896-1677698100-1677705300@www.swvdeliemers-po.nl
SUMMARY:Beeldcoaching 3
DESCRIPTION:
URL:https://www.swvdeliemers-po.nl/index.php/event/beeldcoaching-3-6/
END:VEVENT
BEGIN:VEVENT
DTSTART;TZID=Europe/Paris:20230301T150000
DTEND;TZID=Europe/Paris:20230301T163000
DTSTAMP:20260423T102815
CREATED:20220926T145925Z
LAST-MODIFIED:20220926T145925Z
UID:4895-1677682800-1677688200@www.swvdeliemers-po.nl
SUMMARY:Netwerk Bouw/Kurzweil
DESCRIPTION:
URL:https://www.swvdeliemers-po.nl/index.php/event/netwerk-bouw-kurzweil/
END:VEVENT
BEGIN:VEVENT
DTSTART;TZID=Europe/Paris:20230227T200000
DTEND;TZID=Europe/Paris:20230227T210000
DTSTAMP:20260423T102815
CREATED:20230112T080616Z
LAST-MODIFIED:20230112T080616Z
UID:4967-1677528000-1677531600@www.swvdeliemers-po.nl
SUMMARY:Online kennismaking Logopedische Screening
DESCRIPTION:Aanmelden kan door en e-mail te sturen aan logopedie@swvdeliemers-po.nl\nOnderwerp: IK MELD MIJ AAN\n\nU ontvangt een link voor Teams.
URL:https://www.swvdeliemers-po.nl/index.php/event/online-kennismaking-logopedische-screening/
LOCATION:Online
END:VEVENT
BEGIN:VEVENT
DTSTART;VALUE=DATE:20230220
DTEND;VALUE=DATE:20230221
DTSTAMP:20260423T102815
CREATED:20220926T145925Z
LAST-MODIFIED:20220926T145925Z
UID:4894-1676851200-1676937599@www.swvdeliemers-po.nl
SUMMARY:Voorjaarsvakantie
DESCRIPTION:
URL:https://www.swvdeliemers-po.nl/index.php/event/voorjaarsvakantie/
END:VEVENT
BEGIN:VEVENT
DTSTART;TZID=Europe/Paris:20230215T153000
DTEND;TZID=Europe/Paris:20230215T210000
DTSTAMP:20260423T102815
CREATED:20220926T145925Z
LAST-MODIFIED:20220926T145925Z
UID:4893-1676475000-1676494800@www.swvdeliemers-po.nl
SUMMARY:ITTTT 2 Ik zie
DESCRIPTION:ik zie
URL:https://www.swvdeliemers-po.nl/index.php/event/itttt-2-ik-zie/
END:VEVENT
BEGIN:VEVENT
DTSTART;TZID=Europe/Paris:20230208T191500
DTEND;TZID=Europe/Paris:20230208T211500
DTSTAMP:20260423T102815
CREATED:20220926T145910Z
LAST-MODIFIED:20220926T145910Z
UID:4892-1675883700-1675890900@www.swvdeliemers-po.nl
SUMMARY:Beeldcoaching 3
DESCRIPTION:
URL:https://www.swvdeliemers-po.nl/index.php/event/beeldcoaching-3-5/
END:VEVENT
BEGIN:VEVENT
DTSTART;TZID=Europe/Paris:20230206T160000
DTEND;TZID=Europe/Paris:20230206T200000
DTSTAMP:20260423T102815
CREATED:20220926T145910Z
LAST-MODIFIED:20220926T145910Z
UID:4891-1675699200-1675713600@www.swvdeliemers-po.nl
SUMMARY:Training Systemisch Specialist 4
DESCRIPTION:
URL:https://www.swvdeliemers-po.nl/index.php/event/training-systemisch-specialist-4/
END:VEVENT
END:VCALENDAR