BEGIN:VCALENDAR
VERSION:2.0
PRODID:-//Samenwerkingsverband Onderwijs op Maat De Liemers - ECPv5.10.1//NONSGML v1.0//EN
CALSCALE:GREGORIAN
METHOD:PUBLISH
X-WR-CALNAME:Samenwerkingsverband Onderwijs op Maat De Liemers
X-ORIGINAL-URL:https://www.swvdeliemers-po.nl
X-WR-CALDESC:Evenementen voor Samenwerkingsverband Onderwijs op Maat De Liemers
BEGIN:VTIMEZONE

END:VTIMEZONE
BEGIN:VEVENT
DTSTART;TZID=Europe/Paris:20211117T150000
DTEND;TZID=Europe/Paris:20211117T170000
DTSTAMP:20260425T185443
CREATED:20220112T085230Z
LAST-MODIFIED:20220112T085230Z
UID:4422-1637161200-1637168400@www.swvdeliemers-po.nl
SUMMARY:IVG gevorderden
DESCRIPTION:
URL:https://www.swvdeliemers-po.nl/index.php/event/ivg-gevorderden-2/
END:VEVENT
BEGIN:VEVENT
DTSTART;TZID=Europe/Paris:20211115T130000
DTEND;TZID=Europe/Paris:20211115T170000
DTSTAMP:20260425T185443
CREATED:20220112T085216Z
LAST-MODIFIED:20220112T085216Z
UID:4421-1636981200-1636995600@www.swvdeliemers-po.nl
SUMMARY:Beeldcoaching workshop Luk Dewulf
DESCRIPTION:
URL:https://www.swvdeliemers-po.nl/index.php/event/beeldcoaching-workshop-luk-dewulf/
END:VEVENT
BEGIN:VEVENT
DTSTART;TZID=Europe/Paris:20211111T133000
DTEND;TZID=Europe/Paris:20211111T143000
DTSTAMP:20260425T185443
CREATED:20211111T103849Z
LAST-MODIFIED:20211111T103849Z
UID:4116-1636637400-1636641000@www.swvdeliemers-po.nl
SUMMARY:Website ontwerp
DESCRIPTION:Presentatie in Zevenaar van de laatste versie van de nieuwe website en bepalen of we de website vrij gaan geven voor review.
URL:https://www.swvdeliemers-po.nl/index.php/event/website-ontwerp-2/
END:VEVENT
BEGIN:VEVENT
DTSTART;TZID=Europe/Paris:20211110T150000
DTEND;TZID=Europe/Paris:20211110T170000
DTSTAMP:20260425T185443
CREATED:20220112T085216Z
LAST-MODIFIED:20220112T085216Z
UID:4420-1636556400-1636563600@www.swvdeliemers-po.nl
SUMMARY:IVG basis
DESCRIPTION:
URL:https://www.swvdeliemers-po.nl/index.php/event/ivg-basis-2/
END:VEVENT
BEGIN:VEVENT
DTSTART;TZID=Europe/Paris:20211108T160000
DTEND;TZID=Europe/Paris:20211108T173000
DTSTAMP:20260425T185443
CREATED:20220112T085216Z
LAST-MODIFIED:20220112T085216Z
UID:4419-1636387200-1636392600@www.swvdeliemers-po.nl
SUMMARY:Netwerk Het Jonge Kind
DESCRIPTION:
URL:https://www.swvdeliemers-po.nl/index.php/event/netwerk-het-jonge-kind/
END:VEVENT
BEGIN:VEVENT
DTSTART;TZID=Europe/Paris:20211103T150000
DTEND;TZID=Europe/Paris:20211103T164500
DTSTAMP:20260425T185443
CREATED:20220112T085216Z
LAST-MODIFIED:20220112T085216Z
UID:4418-1635951600-1635957900@www.swvdeliemers-po.nl
SUMMARY:DCD
DESCRIPTION:
URL:https://www.swvdeliemers-po.nl/index.php/event/dcd/
END:VEVENT
BEGIN:VEVENT
DTSTART;TZID=Europe/Paris:20211101T150000
DTEND;TZID=Europe/Paris:20211101T163000
DTSTAMP:20260425T185443
CREATED:20220112T085215Z
LAST-MODIFIED:20220112T085215Z
UID:4417-1635778800-1635784200@www.swvdeliemers-po.nl
SUMMARY:Kwaliteitskring lezen en spelling
DESCRIPTION:
URL:https://www.swvdeliemers-po.nl/index.php/event/kwaliteitskring-lezen-en-spelling/
END:VEVENT
BEGIN:VEVENT
DTSTART;VALUE=DATE:20211025
DTEND;VALUE=DATE:20211101
DTSTAMP:20260425T185443
CREATED:20220112T085201Z
LAST-MODIFIED:20220112T085201Z
UID:4416-1635120000-1635724799@www.swvdeliemers-po.nl
SUMMARY:Herfstvakantie
DESCRIPTION:
URL:https://www.swvdeliemers-po.nl/index.php/event/herfstvakantie/
END:VEVENT
BEGIN:VEVENT
DTSTART;TZID=Europe/Paris:20211020T184500
DTEND;TZID=Europe/Paris:20211020T211500
DTSTAMP:20260425T185443
CREATED:20220112T085201Z
LAST-MODIFIED:20220112T085201Z
UID:4415-1634755500-1634764500@www.swvdeliemers-po.nl
SUMMARY:Opleiding tot Beeldcoach
DESCRIPTION:
URL:https://www.swvdeliemers-po.nl/index.php/event/opleiding-tot-beeldcoach-2/
END:VEVENT
BEGIN:VEVENT
DTSTART;TZID=Europe/Paris:20211020T153000
DTEND;TZID=Europe/Paris:20211020T170000
DTSTAMP:20260425T185443
CREATED:20220112T085201Z
LAST-MODIFIED:20220112T085201Z
UID:4414-1634743800-1634749200@www.swvdeliemers-po.nl
SUMMARY:Netwerk meer- en hoogbegaafdheid
DESCRIPTION:
URL:https://www.swvdeliemers-po.nl/index.php/event/netwerk-meer-en-hoogbegaafdheid/
END:VEVENT
BEGIN:VEVENT
DTSTART;TZID=Europe/Paris:20211013T150000
DTEND;TZID=Europe/Paris:20211013T170000
DTSTAMP:20260425T185443
CREATED:20220112T085200Z
LAST-MODIFIED:20220112T085200Z
UID:4413-1634137200-1634144400@www.swvdeliemers-po.nl
SUMMARY:Kwaliteitskring gedragsspecialisten
DESCRIPTION:
URL:https://www.swvdeliemers-po.nl/index.php/event/kwaliteitskring-gedragsspecialisten/
END:VEVENT
BEGIN:VEVENT
DTSTART;TZID=Europe/Paris:20211012T153000
DTEND;TZID=Europe/Paris:20211012T170000
DTSTAMP:20260425T185443
CREATED:20220112T085200Z
LAST-MODIFIED:20220112T085200Z
UID:4412-1634052600-1634058000@www.swvdeliemers-po.nl
SUMMARY:Netwerk rekenen
DESCRIPTION:
URL:https://www.swvdeliemers-po.nl/index.php/event/netwerk-rekenen/
END:VEVENT
BEGIN:VEVENT
DTSTART;TZID=Europe/Paris:20211012T130000
DTEND;TZID=Europe/Paris:20211012T140000
DTSTAMP:20260425T185443
CREATED:20220112T085146Z
LAST-MODIFIED:20220112T085146Z
UID:4411-1634043600-1634047200@www.swvdeliemers-po.nl
SUMMARY:MR
DESCRIPTION:
URL:https://www.swvdeliemers-po.nl/index.php/event/mr/
END:VEVENT
BEGIN:VEVENT
DTSTART;TZID=Europe/Paris:20211006T160000
DTEND;TZID=Europe/Paris:20211006T203000
DTSTAMP:20260425T185443
CREATED:20220112T085146Z
LAST-MODIFIED:20220112T085146Z
UID:4410-1633536000-1633552200@www.swvdeliemers-po.nl
SUMMARY:Groepsgeluk voor gecertificeerden
DESCRIPTION:
URL:https://www.swvdeliemers-po.nl/index.php/event/groepsgeluk-voor-gecertificeerden/
END:VEVENT
BEGIN:VEVENT
DTSTART;TZID=Europe/Paris:20211001T093000
DTEND;TZID=Europe/Paris:20211001T163000
DTSTAMP:20260425T185443
CREATED:20220112T085145Z
LAST-MODIFIED:20220112T085145Z
UID:4409-1633080600-1633105800@www.swvdeliemers-po.nl
SUMMARY:Groepsgeluk
DESCRIPTION:
URL:https://www.swvdeliemers-po.nl/index.php/event/groepsgeluk-2/
END:VEVENT
BEGIN:VEVENT
DTSTART;TZID=Europe/Paris:20210929T150000
DTEND;TZID=Europe/Paris:20210929T170000
DTSTAMP:20260425T185443
CREATED:20220112T085145Z
LAST-MODIFIED:20220112T085145Z
UID:4408-1632927600-1632934800@www.swvdeliemers-po.nl
SUMMARY:IVG gevorderden
DESCRIPTION:
URL:https://www.swvdeliemers-po.nl/index.php/event/ivg-gevorderden/
END:VEVENT
BEGIN:VEVENT
DTSTART;TZID=Europe/Paris:20210929T090000
DTEND;TZID=Europe/Paris:20210929T124500
DTSTAMP:20260425T185443
CREATED:20220112T085145Z
LAST-MODIFIED:20220112T085145Z
UID:4407-1632906000-1632919500@www.swvdeliemers-po.nl
SUMMARY:IB netwerk
DESCRIPTION:
URL:https://www.swvdeliemers-po.nl/index.php/event/ib-netwerk/
END:VEVENT
BEGIN:VEVENT
DTSTART;TZID=Europe/Paris:20210922T184500
DTEND;TZID=Europe/Paris:20210922T211500
DTSTAMP:20260425T185443
CREATED:20220112T085144Z
LAST-MODIFIED:20220112T085144Z
UID:4406-1632336300-1632345300@www.swvdeliemers-po.nl
SUMMARY:Opleiding tot Beeldcoach
DESCRIPTION:
URL:https://www.swvdeliemers-po.nl/index.php/event/opleiding-tot-beeldcoach/
END:VEVENT
BEGIN:VEVENT
DTSTART;TZID=Europe/Paris:20210922T150000
DTEND;TZID=Europe/Paris:20210922T170000
DTSTAMP:20260425T185443
CREATED:20220112T085144Z
LAST-MODIFIED:20220112T085144Z
UID:4405-1632322800-1632330000@www.swvdeliemers-po.nl
SUMMARY:IVG basis
DESCRIPTION:
URL:https://www.swvdeliemers-po.nl/index.php/event/ivg-basis/
END:VEVENT
BEGIN:VEVENT
DTSTART;TZID=Europe/Paris:20210920T193000
DTEND;TZID=Europe/Paris:20210920T213000
DTSTAMP:20260425T185443
CREATED:20220112T085144Z
LAST-MODIFIED:20220112T085144Z
UID:4404-1632166200-1632173400@www.swvdeliemers-po.nl
SUMMARY:Kwaliteitskring Beeldcoaches
DESCRIPTION:
URL:https://www.swvdeliemers-po.nl/index.php/event/kwaliteitskring-beeldcoaches/
END:VEVENT
BEGIN:VEVENT
DTSTART;TZID=Europe/Paris:20210917T093000
DTEND;TZID=Europe/Paris:20210917T163000
DTSTAMP:20260425T185443
CREATED:20220112T064409Z
LAST-MODIFIED:20220112T085144Z
UID:4394-1631871000-1631896200@www.swvdeliemers-po.nl
SUMMARY:Groepsgeluk
DESCRIPTION:
URL:https://www.swvdeliemers-po.nl/index.php/event/groepsgeluk/
END:VEVENT
BEGIN:VEVENT
DTSTART;TZID=Europe/Paris:20210915T150000
DTEND;TZID=Europe/Paris:20210915T170000
DTSTAMP:20260425T185443
CREATED:20220112T064409Z
LAST-MODIFIED:20220112T085144Z
UID:4393-1631718000-1631725200@www.swvdeliemers-po.nl
SUMMARY:Taakspel
DESCRIPTION:
URL:https://www.swvdeliemers-po.nl/index.php/event/taakspel/
END:VEVENT
BEGIN:VEVENT
DTSTART;TZID=Europe/Paris:20260425T185443
DTEND;TZID=Europe/Paris:20260425T185443
DTSTAMP:20260425T185443
CREATED:20240904T101625Z
LAST-MODIFIED:20240904T101625Z
UID:5734-0-0@www.swvdeliemers-po.nl
SUMMARY:Training Systemisch Specialist 5
DESCRIPTION:
URL:https://www.swvdeliemers-po.nl/index.php/event/training-systemisch-specialist-5-2/
END:VEVENT
BEGIN:VEVENT
DTSTART;TZID=Europe/Paris:20260425T185443
DTEND;TZID=Europe/Paris:20260425T185443
DTSTAMP:20260425T185443
CREATED:20240904T101610Z
LAST-MODIFIED:20240904T101610Z
UID:5728-0-0@www.swvdeliemers-po.nl
SUMMARY:Taakspel generalisatiefase
DESCRIPTION:
URL:https://www.swvdeliemers-po.nl/index.php/event/taakspel-generalisatiefase-2/
END:VEVENT
BEGIN:VEVENT
DTSTART;TZID=Europe/Paris:20260425T185443
DTEND;TZID=Europe/Paris:20260425T185443
DTSTAMP:20260425T185443
CREATED:20240904T101610Z
LAST-MODIFIED:20240904T101610Z
UID:5729-0-0@www.swvdeliemers-po.nl
SUMMARY:IB netwerk
DESCRIPTION:
URL:https://www.swvdeliemers-po.nl/index.php/event/ib-netwerk-8/
END:VEVENT
BEGIN:VEVENT
DTSTART;TZID=Europe/Paris:20260425T185443
DTEND;TZID=Europe/Paris:20260425T185443
DTSTAMP:20260425T185443
CREATED:20240904T101610Z
LAST-MODIFIED:20240904T101610Z
UID:5730-0-0@www.swvdeliemers-po.nl
SUMMARY:Netwerk Jonge kind
DESCRIPTION:
URL:https://www.swvdeliemers-po.nl/index.php/event/netwerk-jonge-kind-3/
END:VEVENT
BEGIN:VEVENT
DTSTART;TZID=Europe/Paris:20260425T185443
DTEND;TZID=Europe/Paris:20260425T185443
DTSTAMP:20260425T185443
CREATED:20240904T101610Z
LAST-MODIFIED:20240904T101610Z
UID:5731-0-0@www.swvdeliemers-po.nl
SUMMARY:Kwaliteitskring Beeldcoaches
DESCRIPTION:
URL:https://www.swvdeliemers-po.nl/index.php/event/kwaliteitskring-beeldcoaches-2/
END:VEVENT
BEGIN:VEVENT
DTSTART;TZID=Europe/Paris:20260425T185443
DTEND;TZID=Europe/Paris:20260425T185443
DTSTAMP:20260425T185443
CREATED:20240904T101536Z
LAST-MODIFIED:20240904T101610Z
UID:5727-0-0@www.swvdeliemers-po.nl
SUMMARY:CLO
DESCRIPTION:
URL:https://www.swvdeliemers-po.nl/index.php/event/clo-22/
END:VEVENT
BEGIN:VEVENT
DTSTART;TZID=Europe/Paris:20260425T185443
DTEND;TZID=Europe/Paris:20260425T185443
DTSTAMP:20260425T185443
CREATED:20240904T101536Z
LAST-MODIFIED:20240904T101536Z
UID:5723-0-0@www.swvdeliemers-po.nl
SUMMARY:Studieochtend directeuren
DESCRIPTION:
URL:https://www.swvdeliemers-po.nl/index.php/event/studieochtend-directeuren-2/
END:VEVENT
BEGIN:VEVENT
DTSTART;TZID=Europe/Paris:20260425T185443
DTEND;TZID=Europe/Paris:20260425T185443
DTSTAMP:20260425T185443
CREATED:20240904T101522Z
LAST-MODIFIED:20240904T101522Z
UID:5720-0-0@www.swvdeliemers-po.nl
SUMMARY:Lesgeven aan getraumatiseerde kinderen
DESCRIPTION:
URL:https://www.swvdeliemers-po.nl/index.php/event/lesgeven-aan-getraumatiseerde-kinderen-4/
END:VEVENT
END:VCALENDAR