BEGIN:VCALENDAR
VERSION:2.0
PRODID:-//Samenwerkingsverband Onderwijs op Maat De Liemers - ECPv5.10.1//NONSGML v1.0//EN
CALSCALE:GREGORIAN
METHOD:PUBLISH
X-WR-CALNAME:Samenwerkingsverband Onderwijs op Maat De Liemers
X-ORIGINAL-URL:https://www.swvdeliemers-po.nl
X-WR-CALDESC:Evenementen voor Samenwerkingsverband Onderwijs op Maat De Liemers
BEGIN:VTIMEZONE
TZID:Europe/Paris
BEGIN:DAYLIGHT
TZOFFSETFROM:+0100
TZOFFSETTO:+0200
TZNAME:CEST
DTSTART:20250330T010000
END:DAYLIGHT
BEGIN:STANDARD
TZOFFSETFROM:+0200
TZOFFSETTO:+0100
TZNAME:CET
DTSTART:20251026T010000
END:STANDARD
END:VTIMEZONE
BEGIN:VEVENT
DTSTART;TZID=Europe/Paris:20250207T160000
DTEND;TZID=Europe/Paris:20250207T220000
DTSTAMP:20260423T002011
CREATED:20240904T101453Z
LAST-MODIFIED:20240904T101453Z
UID:5706-1738944000-1738965600@www.swvdeliemers-po.nl
SUMMARY:Kwaliteitskring gedragsspecialisten
DESCRIPTION:
URL:https://www.swvdeliemers-po.nl/index.php/event/kwaliteitskring-gedragsspecialisten-2/
END:VEVENT
BEGIN:VEVENT
DTSTART;TZID=Europe/Paris:20250212T120000
DTEND;TZID=Europe/Paris:20250212T170000
DTSTAMP:20260423T002011
CREATED:20240904T101454Z
LAST-MODIFIED:20240904T101454Z
UID:5707-1739361600-1739379600@www.swvdeliemers-po.nl
SUMMARY:CLO
DESCRIPTION:
URL:https://www.swvdeliemers-po.nl/index.php/event/clo-19/
END:VEVENT
BEGIN:VEVENT
DTSTART;TZID=Europe/Paris:20250212T153000
DTEND;TZID=Europe/Paris:20250212T210000
DTSTAMP:20260423T002011
CREATED:20240904T101503Z
LAST-MODIFIED:20240904T101503Z
UID:5708-1739374200-1739394000@www.swvdeliemers-po.nl
SUMMARY:ITTT 3.2
DESCRIPTION:
URL:https://www.swvdeliemers-po.nl/index.php/event/ittt-3-2/
END:VEVENT
BEGIN:VEVENT
DTSTART;TZID=Europe/Paris:20250217T193000
DTEND;TZID=Europe/Paris:20250217T213000
DTSTAMP:20260423T002011
CREATED:20240904T101503Z
LAST-MODIFIED:20240904T101503Z
UID:5709-1739820600-1739827800@www.swvdeliemers-po.nl
SUMMARY:Kenniskring Beeldcoach
DESCRIPTION:
URL:https://www.swvdeliemers-po.nl/index.php/event/kenniskring-beeldcoach-3/
END:VEVENT
BEGIN:VEVENT
DTSTART;TZID=Europe/Paris:20250219T171500
DTEND;TZID=Europe/Paris:20250219T193000
DTSTAMP:20260423T002011
CREATED:20240904T101503Z
LAST-MODIFIED:20240904T101503Z
UID:5710-1739985300-1739993400@www.swvdeliemers-po.nl
SUMMARY:Opleiding tot BeeldCoach 2.6 (2e jaar)
DESCRIPTION:
URL:https://www.swvdeliemers-po.nl/index.php/event/opleiding-tot-beeldcoach-2-6-2e-jaar/
END:VEVENT
BEGIN:VEVENT
DTSTART;TZID=Europe/Paris:20250226T160000
DTEND;TZID=Europe/Paris:20250226T200000
DTSTAMP:20260423T002011
CREATED:20240904T101504Z
LAST-MODIFIED:20240904T101504Z
UID:5711-1740585600-1740600000@www.swvdeliemers-po.nl
SUMMARY:Lesgeven aan getraumatiseerde kinderen
DESCRIPTION:
URL:https://www.swvdeliemers-po.nl/index.php/event/lesgeven-aan-getraumatiseerde-kinderen-3/
END:VEVENT
BEGIN:VEVENT
DTSTART;VALUE=DATE:20250228
DTEND;VALUE=DATE:20250301
DTSTAMP:20260423T002011
CREATED:20240904T101504Z
LAST-MODIFIED:20240904T101504Z
UID:5712-1740700800-1740787199@www.swvdeliemers-po.nl
SUMMARY:Eindcertificering Beeldcoach leerjaar 2
DESCRIPTION:
URL:https://www.swvdeliemers-po.nl/index.php/event/eindcertificering-beeldcoach-leerjaar-2/
END:VEVENT
BEGIN:VEVENT
DTSTART;VALUE=DATE:20250303
DTEND;VALUE=DATE:20250310
DTSTAMP:20260423T002011
CREATED:20240904T101506Z
LAST-MODIFIED:20240904T101506Z
UID:5713-1740960000-1741564799@www.swvdeliemers-po.nl
SUMMARY:Voorjaarsvakantie
DESCRIPTION:
URL:https://www.swvdeliemers-po.nl/index.php/event/voorjaarsvakantie-3/
END:VEVENT
BEGIN:VEVENT
DTSTART;TZID=Europe/Paris:20250312T120000
DTEND;TZID=Europe/Paris:20250312T170000
DTSTAMP:20260423T002011
CREATED:20240904T101506Z
LAST-MODIFIED:20240904T101506Z
UID:5714-1741780800-1741798800@www.swvdeliemers-po.nl
SUMMARY:CLO
DESCRIPTION:
URL:https://www.swvdeliemers-po.nl/index.php/event/clo-20/
END:VEVENT
BEGIN:VEVENT
DTSTART;TZID=Europe/Paris:20250317T160000
DTEND;TZID=Europe/Paris:20250317T200000
DTSTAMP:20260423T002011
CREATED:20240904T101506Z
LAST-MODIFIED:20240904T101506Z
UID:5715-1742227200-1742241600@www.swvdeliemers-po.nl
SUMMARY:Training Systemisch Specialist 4
DESCRIPTION:
URL:https://www.swvdeliemers-po.nl/index.php/event/training-systemisch-specialist-4-2/
END:VEVENT
BEGIN:VEVENT
DTSTART;TZID=Europe/Paris:20250319T160000
DTEND;TZID=Europe/Paris:20250319T203000
DTSTAMP:20260423T002011
CREATED:20240904T101506Z
LAST-MODIFIED:20240904T101506Z
UID:5716-1742400000-1742416200@www.swvdeliemers-po.nl
SUMMARY:Supervisie voor spec. in Communicatie
DESCRIPTION:
URL:https://www.swvdeliemers-po.nl/index.php/event/supervisie-voor-spec-in-communicatie-2/
END:VEVENT
BEGIN:VEVENT
DTSTART;TZID=Europe/Paris:20250324T160000
DTEND;TZID=Europe/Paris:20250324T203000
DTSTAMP:20260423T002011
CREATED:20240904T101506Z
LAST-MODIFIED:20240904T101506Z
UID:5717-1742832000-1742848200@www.swvdeliemers-po.nl
SUMMARY:Supervisie Systemisch Werken
DESCRIPTION:
URL:https://www.swvdeliemers-po.nl/index.php/event/supervisie-systemisch-werken-4/
END:VEVENT
BEGIN:VEVENT
DTSTART;TZID=Europe/Paris:20250402T120000
DTEND;TZID=Europe/Paris:20250402T170000
DTSTAMP:20260423T002011
CREATED:20240904T101522Z
LAST-MODIFIED:20240904T101522Z
UID:5718-1743595200-1743613200@www.swvdeliemers-po.nl
SUMMARY:CLO
DESCRIPTION:
URL:https://www.swvdeliemers-po.nl/index.php/event/clo-21/
END:VEVENT
BEGIN:VEVENT
DTSTART;TZID=Europe/Paris:20250402T150000
DTEND;TZID=Europe/Paris:20250402T170000
DTSTAMP:20260423T002011
CREATED:20240904T101522Z
LAST-MODIFIED:20240904T101522Z
UID:5719-1743606000-1743613200@www.swvdeliemers-po.nl
SUMMARY:Netwerk bijeenkomst HB
DESCRIPTION:
URL:https://www.swvdeliemers-po.nl/index.php/event/netwerk-bijeenkomst-hb-3/
END:VEVENT
BEGIN:VEVENT
DTSTART;TZID=Europe/Paris:20250402T160000
DTEND;TZID=Europe/Paris:20250402T200000
DTSTAMP:20260423T002011
CREATED:20240904T103852Z
LAST-MODIFIED:20240904T103852Z
UID:5740-1743609600-1743624000@www.swvdeliemers-po.nl
SUMMARY:Lesgeven aan getraumatiseerde kinderen
DESCRIPTION:
URL:https://www.swvdeliemers-po.nl/index.php/event/lesgeven-aan-getraumatiseerde-kinderen-5/
END:VEVENT
BEGIN:VEVENT
DTSTART;TZID=Europe/Paris:20250408T143000
DTEND;TZID=Europe/Paris:20250408T170000
DTSTAMP:20260423T002011
CREATED:20240904T103853Z
LAST-MODIFIED:20240904T103853Z
UID:5741-1744122600-1744131600@www.swvdeliemers-po.nl
SUMMARY:Kenniskring gedragsspecialisten
DESCRIPTION:
URL:https://www.swvdeliemers-po.nl/index.php/event/kenniskring-gedragsspecialisten-3/
END:VEVENT
BEGIN:VEVENT
DTSTART;TZID=Europe/Paris:20250416T090000
DTEND;TZID=Europe/Paris:20250416T130000
DTSTAMP:20260423T002011
CREATED:20240904T103853Z
LAST-MODIFIED:20240904T103853Z
UID:5743-1744794000-1744808400@www.swvdeliemers-po.nl
SUMMARY:Studieochtend directeuren
DESCRIPTION:
URL:https://www.swvdeliemers-po.nl/index.php/event/studieochtend-directeuren-3/
END:VEVENT
BEGIN:VEVENT
DTSTART;VALUE=DATE:20250418
DTEND;VALUE=DATE:20250419
DTSTAMP:20260423T002011
CREATED:20240904T103853Z
LAST-MODIFIED:20240904T103853Z
UID:5744-1744934400-1745020799@www.swvdeliemers-po.nl
SUMMARY:Goede Vrijdag
DESCRIPTION:
URL:https://www.swvdeliemers-po.nl/index.php/event/goede-vrijdag-4/
END:VEVENT
BEGIN:VEVENT
DTSTART;VALUE=DATE:20250420
DTEND;VALUE=DATE:20250505
DTSTAMP:20260423T002011
CREATED:20240904T103854Z
LAST-MODIFIED:20240904T103854Z
UID:5745-1745107200-1746403199@www.swvdeliemers-po.nl
SUMMARY:meivakantie
DESCRIPTION:
URL:https://www.swvdeliemers-po.nl/index.php/event/meivakantie-4/
END:VEVENT
BEGIN:VEVENT
DTSTART;VALUE=DATE:20250505
DTEND;VALUE=DATE:20250506
DTSTAMP:20260423T002011
CREATED:20240904T103854Z
LAST-MODIFIED:20240904T103854Z
UID:5746-1746403200-1746489599@www.swvdeliemers-po.nl
SUMMARY:Bevrijdingsdag
DESCRIPTION:
URL:https://www.swvdeliemers-po.nl/index.php/event/bevrijdingsdag-2/
END:VEVENT
BEGIN:VEVENT
DTSTART;TZID=Europe/Paris:20250507T120000
DTEND;TZID=Europe/Paris:20250507T170000
DTSTAMP:20260423T002011
CREATED:20240904T103854Z
LAST-MODIFIED:20240904T103854Z
UID:5747-1746619200-1746637200@www.swvdeliemers-po.nl
SUMMARY:CLO
DESCRIPTION:
URL:https://www.swvdeliemers-po.nl/index.php/event/clo-23/
END:VEVENT
BEGIN:VEVENT
DTSTART;TZID=Europe/Paris:20250512T150000
DTEND;TZID=Europe/Paris:20250512T170000
DTSTAMP:20260423T002011
CREATED:20240904T103854Z
LAST-MODIFIED:20240904T103854Z
UID:5748-1747062000-1747069200@www.swvdeliemers-po.nl
SUMMARY:Taakspel generalisatiefase
DESCRIPTION:
URL:https://www.swvdeliemers-po.nl/index.php/event/taakspel-generalisatiefase-3/
END:VEVENT
BEGIN:VEVENT
DTSTART;VALUE=DATE:20250707
DTEND;VALUE=DATE:20250816
DTSTAMP:20260423T002011
CREATED:20240904T103925Z
LAST-MODIFIED:20240904T103925Z
UID:5757-1751846400-1755302399@www.swvdeliemers-po.nl
SUMMARY:Zomervakantie
DESCRIPTION:
URL:https://www.swvdeliemers-po.nl/index.php/event/zomervakantie-5/
END:VEVENT
BEGIN:VEVENT
DTSTART;TZID=Europe/Paris:20250825T153000
DTEND;TZID=Europe/Paris:20250825T153000
DTSTAMP:20260423T002011
CREATED:20250912T194103Z
LAST-MODIFIED:20250923T145849Z
UID:6114-1756135800-1756135800@www.swvdeliemers-po.nl
SUMMARY:Training Taakspel 1
DESCRIPTION:
URL:https://www.swvdeliemers-po.nl/index.php/event/training-taakspel-1-lucy/
END:VEVENT
BEGIN:VEVENT
DTSTART;TZID=Europe/Paris:20250903T120000
DTEND;TZID=Europe/Paris:20250903T120000
DTSTAMP:20260423T002011
CREATED:20250912T194104Z
LAST-MODIFIED:20250912T194104Z
UID:6118-1756900800-1756900800@www.swvdeliemers-po.nl
SUMMARY:CLO
DESCRIPTION:
URL:https://www.swvdeliemers-po.nl/index.php/event/clo-25/
END:VEVENT
BEGIN:VEVENT
DTSTART;TZID=Europe/Paris:20250908T160000
DTEND;TZID=Europe/Paris:20250908T160000
DTSTAMP:20260423T002011
CREATED:20250912T194104Z
LAST-MODIFIED:20250912T194104Z
UID:6119-1757347200-1757347200@www.swvdeliemers-po.nl
SUMMARY:Systemisch werken
DESCRIPTION:
URL:https://www.swvdeliemers-po.nl/index.php/event/systemisch-werken/
END:VEVENT
BEGIN:VEVENT
DTSTART;TZID=Europe/Paris:20250917T160000
DTEND;TZID=Europe/Paris:20250917T160000
DTSTAMP:20260423T002011
CREATED:20250912T194119Z
LAST-MODIFIED:20250923T151556Z
UID:6123-1758124800-1758124800@www.swvdeliemers-po.nl
SUMMARY:Training Systemisch werken 1
DESCRIPTION:
URL:https://www.swvdeliemers-po.nl/index.php/event/training-sw-1-lucy/
END:VEVENT
BEGIN:VEVENT
DTSTART;TZID=Europe/Paris:20250922T090000
DTEND;TZID=Europe/Paris:20250922T090000
DTSTAMP:20260423T002011
CREATED:20250912T194119Z
LAST-MODIFIED:20250912T194119Z
UID:6124-1758531600-1758531600@www.swvdeliemers-po.nl
SUMMARY:Centrale Advies Groep
DESCRIPTION:
URL:https://www.swvdeliemers-po.nl/index.php/event/centrale-advies-groep/
END:VEVENT
BEGIN:VEVENT
DTSTART;TZID=Europe/Paris:20250924T120000
DTEND;TZID=Europe/Paris:20250924T120000
DTSTAMP:20260423T002011
CREATED:20250912T194119Z
LAST-MODIFIED:20250912T194119Z
UID:6125-1758715200-1758715200@www.swvdeliemers-po.nl
SUMMARY:CLO
DESCRIPTION:
URL:https://www.swvdeliemers-po.nl/index.php/event/clo-26/
END:VEVENT
BEGIN:VEVENT
DTSTART;TZID=Europe/Paris:20250924T143000
DTEND;TZID=Europe/Paris:20250924T143000
DTSTAMP:20260423T002011
CREATED:20250912T194119Z
LAST-MODIFIED:20250912T194119Z
UID:6126-1758724200-1758724200@www.swvdeliemers-po.nl
SUMMARY:Overleg HB Vliegwiel
DESCRIPTION:
URL:https://www.swvdeliemers-po.nl/index.php/event/overleg-hb-vliegwiel/
END:VEVENT
END:VCALENDAR