BEGIN:VCALENDAR
VERSION:2.0
PRODID:-//Samenwerkingsverband Onderwijs op Maat De Liemers - ECPv5.10.1//NONSGML v1.0//EN
CALSCALE:GREGORIAN
METHOD:PUBLISH
X-WR-CALNAME:Samenwerkingsverband Onderwijs op Maat De Liemers
X-ORIGINAL-URL:https://www.swvdeliemers-po.nl
X-WR-CALDESC:Evenementen voor Samenwerkingsverband Onderwijs op Maat De Liemers
BEGIN:VTIMEZONE
TZID:Europe/Paris
BEGIN:DAYLIGHT
TZOFFSETFROM:+0100
TZOFFSETTO:+0200
TZNAME:CEST
DTSTART:20230326T010000
END:DAYLIGHT
BEGIN:STANDARD
TZOFFSETFROM:+0200
TZOFFSETTO:+0100
TZNAME:CET
DTSTART:20231029T010000
END:STANDARD
BEGIN:DAYLIGHT
TZOFFSETFROM:+0100
TZOFFSETTO:+0200
TZNAME:CEST
DTSTART:20240331T010000
END:DAYLIGHT
BEGIN:STANDARD
TZOFFSETFROM:+0200
TZOFFSETTO:+0100
TZNAME:CET
DTSTART:20241027T010000
END:STANDARD
END:VTIMEZONE
BEGIN:VEVENT
DTSTART;TZID=Europe/Paris:20240403T184500
DTEND;TZID=Europe/Paris:20240403T211500
DTSTAMP:20260423T002230
CREATED:20230926T175755Z
LAST-MODIFIED:20230926T175755Z
UID:5161-1712169900-1712178900@www.swvdeliemers-po.nl
SUMMARY:Opleiding BC
DESCRIPTION:
URL:https://www.swvdeliemers-po.nl/index.php/event/opleiding-bc-7/
END:VEVENT
BEGIN:VEVENT
DTSTART;TZID=Europe/Paris:20240327T130000
DTEND;TZID=Europe/Paris:20240327T170000
DTSTAMP:20260423T002230
CREATED:20230926T175709Z
LAST-MODIFIED:20230926T175709Z
UID:5160-1711544400-1711558800@www.swvdeliemers-po.nl
SUMMARY:CLO
DESCRIPTION:
URL:https://www.swvdeliemers-po.nl/index.php/event/clo-9/
END:VEVENT
BEGIN:VEVENT
DTSTART;TZID=Europe/Paris:20240325T160000
DTEND;TZID=Europe/Paris:20240325T200000
DTSTAMP:20260423T002230
CREATED:20230926T175708Z
LAST-MODIFIED:20230926T175708Z
UID:5159-1711382400-1711396800@www.swvdeliemers-po.nl
SUMMARY:Training Systemisch Specialist
DESCRIPTION:
URL:https://www.swvdeliemers-po.nl/index.php/event/training-systemisch-specialist-8/
END:VEVENT
BEGIN:VEVENT
DTSTART;TZID=Europe/Paris:20240318T160000
DTEND;TZID=Europe/Paris:20240318T203000
DTSTAMP:20260423T002230
CREATED:20230926T175708Z
LAST-MODIFIED:20230926T175708Z
UID:5158-1710777600-1710793800@www.swvdeliemers-po.nl
SUMMARY:Supervisie Systemisch Werken
DESCRIPTION:
URL:https://www.swvdeliemers-po.nl/index.php/event/supervisie-systemisch-werken-2/
END:VEVENT
BEGIN:VEVENT
DTSTART;TZID=Europe/Paris:20240306T130000
DTEND;TZID=Europe/Paris:20240306T170000
DTSTAMP:20260423T002230
CREATED:20230926T175708Z
LAST-MODIFIED:20230926T175708Z
UID:5157-1709730000-1709744400@www.swvdeliemers-po.nl
SUMMARY:CLO
DESCRIPTION:
URL:https://www.swvdeliemers-po.nl/index.php/event/clo-8/
END:VEVENT
BEGIN:VEVENT
DTSTART;TZID=Europe/Paris:20240304T193000
DTEND;TZID=Europe/Paris:20240304T213000
DTSTAMP:20260423T002230
CREATED:20230926T175708Z
LAST-MODIFIED:20230926T175708Z
UID:5156-1709580600-1709587800@www.swvdeliemers-po.nl
SUMMARY:Kenniskring BC
DESCRIPTION:
URL:https://www.swvdeliemers-po.nl/index.php/event/kenniskring-bc-2/
END:VEVENT
BEGIN:VEVENT
DTSTART;TZID=Europe/Paris:20240228T184500
DTEND;TZID=Europe/Paris:20240228T184500
DTSTAMP:20260423T002230
CREATED:20230926T175509Z
LAST-MODIFIED:20230926T175509Z
UID:5155-1709145900-1709145900@www.swvdeliemers-po.nl
SUMMARY:Opleiding BC
DESCRIPTION:
URL:https://www.swvdeliemers-po.nl/index.php/event/opleiding-bc-6/
END:VEVENT
BEGIN:VEVENT
DTSTART;TZID=Europe/Paris:20240222T193000
DTEND;TZID=Europe/Paris:20240222T213000
DTSTAMP:20260423T002230
CREATED:20230926T175508Z
LAST-MODIFIED:20230926T175508Z
UID:5154-1708630200-1708637400@www.swvdeliemers-po.nl
SUMMARY:OPR vergadering
DESCRIPTION:
URL:https://www.swvdeliemers-po.nl/index.php/event/opr-vergadering-3/
END:VEVENT
BEGIN:VEVENT
DTSTART;TZID=Europe/Paris:20240221T153000
DTEND;TZID=Europe/Paris:20240221T210000
DTSTAMP:20260423T002230
CREATED:20230926T175508Z
LAST-MODIFIED:20230926T175508Z
UID:5153-1708529400-1708549200@www.swvdeliemers-po.nl
SUMMARY:ITTT 3.2 Ik ben uniek
DESCRIPTION:
URL:https://www.swvdeliemers-po.nl/index.php/event/ittt-3-2-ik-ben-uniek/
END:VEVENT
BEGIN:VEVENT
DTSTART;VALUE=DATE:20240210
DTEND;VALUE=DATE:20240219
DTSTAMP:20260423T002230
CREATED:20230926T175508Z
LAST-MODIFIED:20230926T175508Z
UID:5152-1707523200-1708300799@www.swvdeliemers-po.nl
SUMMARY:Voorjaarsvakantie
DESCRIPTION:
URL:https://www.swvdeliemers-po.nl/index.php/event/voorjaarsvakantie-2/
END:VEVENT
BEGIN:VEVENT
DTSTART;TZID=Europe/Paris:20240207T130000
DTEND;TZID=Europe/Paris:20240207T150000
DTSTAMP:20260423T002230
CREATED:20230926T175508Z
LAST-MODIFIED:20230926T175508Z
UID:5151-1707310800-1707318000@www.swvdeliemers-po.nl
SUMMARY:CLO
DESCRIPTION:
URL:https://www.swvdeliemers-po.nl/index.php/event/clo-7/
END:VEVENT
BEGIN:VEVENT
DTSTART;TZID=Europe/Paris:20240124T184500
DTEND;TZID=Europe/Paris:20240124T211500
DTSTAMP:20260423T002230
CREATED:20230926T175454Z
LAST-MODIFIED:20230926T175454Z
UID:5150-1706121900-1706130900@www.swvdeliemers-po.nl
SUMMARY:Opleiding BC
DESCRIPTION:
URL:https://www.swvdeliemers-po.nl/index.php/event/opleiding-bc-5/
END:VEVENT
BEGIN:VEVENT
DTSTART;TZID=Europe/Paris:20240124T153000
DTEND;TZID=Europe/Paris:20240124T170000
DTSTAMP:20260423T002230
CREATED:20230926T175453Z
LAST-MODIFIED:20230926T175453Z
UID:5149-1706110200-1706115600@www.swvdeliemers-po.nl
SUMMARY:Netwerkbijeenkomst HB
DESCRIPTION:
URL:https://www.swvdeliemers-po.nl/index.php/event/netwerkbijeenkomst-hb-2/
END:VEVENT
BEGIN:VEVENT
DTSTART;TZID=Europe/Paris:20240117T130000
DTEND;TZID=Europe/Paris:20240117T170000
DTSTAMP:20260423T002230
CREATED:20230926T175453Z
LAST-MODIFIED:20230926T175453Z
UID:5148-1705496400-1705510800@www.swvdeliemers-po.nl
SUMMARY:CLO
DESCRIPTION:
URL:https://www.swvdeliemers-po.nl/index.php/event/clo-6/
END:VEVENT
BEGIN:VEVENT
DTSTART;TZID=Europe/Paris:20240110T153000
DTEND;TZID=Europe/Paris:20240110T210000
DTSTAMP:20260423T002230
CREATED:20230926T175453Z
LAST-MODIFIED:20230926T175453Z
UID:5147-1704900600-1704920400@www.swvdeliemers-po.nl
SUMMARY:ITTT 3.1 Ik ben uniek
DESCRIPTION:
URL:https://www.swvdeliemers-po.nl/index.php/event/ittt-3-1-ik-ben-uniek/
END:VEVENT
BEGIN:VEVENT
DTSTART;VALUE=DATE:20231223
DTEND;VALUE=DATE:20240108
DTSTAMP:20260423T002230
CREATED:20230926T175453Z
LAST-MODIFIED:20230926T175453Z
UID:5146-1703289600-1704671999@www.swvdeliemers-po.nl
SUMMARY:Kerstvakantie
DESCRIPTION:
URL:https://www.swvdeliemers-po.nl/index.php/event/kerstvakantie-4/
END:VEVENT
BEGIN:VEVENT
DTSTART;TZID=Europe/Paris:20231213T184500
DTEND;TZID=Europe/Paris:20231213T211500
DTSTAMP:20260423T002230
CREATED:20230926T175439Z
LAST-MODIFIED:20230926T175439Z
UID:5145-1702493100-1702502100@www.swvdeliemers-po.nl
SUMMARY:Opleiding BC
DESCRIPTION:
URL:https://www.swvdeliemers-po.nl/index.php/event/opleiding-bc-4/
END:VEVENT
BEGIN:VEVENT
DTSTART;TZID=Europe/Paris:20231211T160000
DTEND;TZID=Europe/Paris:20231211T200000
DTSTAMP:20260423T002230
CREATED:20230926T175438Z
LAST-MODIFIED:20230926T175438Z
UID:5144-1702310400-1702324800@www.swvdeliemers-po.nl
SUMMARY:Training Systemisch Specialist
DESCRIPTION:
URL:https://www.swvdeliemers-po.nl/index.php/event/training-systemisch-specialist-7/
END:VEVENT
BEGIN:VEVENT
DTSTART;TZID=Europe/Paris:20231206T130000
DTEND;TZID=Europe/Paris:20231206T130000
DTSTAMP:20260423T002230
CREATED:20230926T175438Z
LAST-MODIFIED:20230926T175438Z
UID:5143-1701867600-1701867600@www.swvdeliemers-po.nl
SUMMARY:CLO
DESCRIPTION:
URL:https://www.swvdeliemers-po.nl/index.php/event/clo-5/
END:VEVENT
BEGIN:VEVENT
DTSTART;TZID=Europe/Paris:20231130T193000
DTEND;TZID=Europe/Paris:20231130T213000
DTSTAMP:20260423T002230
CREATED:20230926T175438Z
LAST-MODIFIED:20230926T175438Z
UID:5142-1701372600-1701379800@www.swvdeliemers-po.nl
SUMMARY:OPR vergadering
DESCRIPTION:
URL:https://www.swvdeliemers-po.nl/index.php/event/opr-vergadering-2/
END:VEVENT
BEGIN:VEVENT
DTSTART;TZID=Europe/Paris:20231129T153000
DTEND;TZID=Europe/Paris:20231129T210000
DTSTAMP:20260423T002230
CREATED:20230926T175438Z
LAST-MODIFIED:20230926T175438Z
UID:5141-1701271800-1701291600@www.swvdeliemers-po.nl
SUMMARY:ITTT 2.2 Ik zie
DESCRIPTION:ik zie…
URL:https://www.swvdeliemers-po.nl/index.php/event/ittt-2-2-ik-zie/
END:VEVENT
BEGIN:VEVENT
DTSTART;TZID=Europe/Paris:20231127T193000
DTEND;TZID=Europe/Paris:20231127T213000
DTSTAMP:20260423T002230
CREATED:20230926T175424Z
LAST-MODIFIED:20230926T175424Z
UID:5140-1701113400-1701120600@www.swvdeliemers-po.nl
SUMMARY:Kenniskring BC
DESCRIPTION:
URL:https://www.swvdeliemers-po.nl/index.php/event/kenniskring-bc/
END:VEVENT
BEGIN:VEVENT
DTSTART;TZID=Europe/Paris:20231122T130000
DTEND;TZID=Europe/Paris:20231122T170000
DTSTAMP:20260423T002230
CREATED:20230926T175423Z
LAST-MODIFIED:20230926T175423Z
UID:5139-1700658000-1700672400@www.swvdeliemers-po.nl
SUMMARY:CLO
DESCRIPTION:
URL:https://www.swvdeliemers-po.nl/index.php/event/clo-4/
END:VEVENT
BEGIN:VEVENT
DTSTART;TZID=Europe/Paris:20231121T153000
DTEND;TZID=Europe/Paris:20231121T170000
DTSTAMP:20260423T002230
CREATED:20230926T175423Z
LAST-MODIFIED:20230926T175423Z
UID:5138-1700580600-1700586000@www.swvdeliemers-po.nl
SUMMARY:Netwerkbijeenkomst HB
DESCRIPTION:
URL:https://www.swvdeliemers-po.nl/index.php/event/netwerkbijeenkomst-hb/
END:VEVENT
BEGIN:VEVENT
DTSTART;TZID=Europe/Paris:20231115T184500
DTEND;TZID=Europe/Paris:20231115T211500
DTSTAMP:20260423T002230
CREATED:20230926T175423Z
LAST-MODIFIED:20230926T175423Z
UID:5137-1700073900-1700082900@www.swvdeliemers-po.nl
SUMMARY:Opleiding BC
DESCRIPTION:
URL:https://www.swvdeliemers-po.nl/index.php/event/opleiding-bc-3/
END:VEVENT
BEGIN:VEVENT
DTSTART;TZID=Europe/Paris:20231113T153000
DTEND;TZID=Europe/Paris:20231113T210000
DTSTAMP:20260423T002230
CREATED:20230926T175423Z
LAST-MODIFIED:20230926T175423Z
UID:5136-1699889400-1699909200@www.swvdeliemers-po.nl
SUMMARY:Extra oefenen Specialist in Communicatie
DESCRIPTION:
URL:https://www.swvdeliemers-po.nl/index.php/event/extra-oefenen-specialist-in-communicatie/
END:VEVENT
BEGIN:VEVENT
DTSTART;TZID=Europe/Paris:20231108T180000
DTEND;TZID=Europe/Paris:20231108T210000
DTSTAMP:20260423T002230
CREATED:20230926T175408Z
LAST-MODIFIED:20230926T175408Z
UID:5135-1699466400-1699477200@www.swvdeliemers-po.nl
SUMMARY:Kenniskring Gedrag
DESCRIPTION:
URL:https://www.swvdeliemers-po.nl/index.php/event/kenniskring-gedrag-2/
END:VEVENT
BEGIN:VEVENT
DTSTART;TZID=Europe/Paris:20231108T150000
DTEND;TZID=Europe/Paris:20231108T180000
DTSTAMP:20260423T002230
CREATED:20230926T175408Z
LAST-MODIFIED:20230926T175408Z
UID:5134-1699455600-1699466400@www.swvdeliemers-po.nl
SUMMARY:Lezing Mindset Inge Corstiaans
DESCRIPTION:
URL:https://www.swvdeliemers-po.nl/index.php/event/lezing-mindset-inge-corstiaans-2/
END:VEVENT
BEGIN:VEVENT
DTSTART;TZID=Europe/Paris:20231101T130000
DTEND;TZID=Europe/Paris:20231101T170000
DTSTAMP:20260423T002230
CREATED:20230926T175408Z
LAST-MODIFIED:20230926T175408Z
UID:5133-1698843600-1698858000@www.swvdeliemers-po.nl
SUMMARY:CLO
DESCRIPTION:
URL:https://www.swvdeliemers-po.nl/index.php/event/clo-3/
END:VEVENT
BEGIN:VEVENT
DTSTART;TZID=Europe/Paris:20231030T160000
DTEND;TZID=Europe/Paris:20231030T200000
DTSTAMP:20260423T002230
CREATED:20230926T175408Z
LAST-MODIFIED:20230926T175408Z
UID:5132-1698681600-1698696000@www.swvdeliemers-po.nl
SUMMARY:Training Systemisch Specialist
DESCRIPTION:
URL:https://www.swvdeliemers-po.nl/index.php/event/training-systemisch-specialist-6/
END:VEVENT
END:VCALENDAR