BEGIN:VCALENDAR
VERSION:2.0
PRODID:-//Samenwerkingsverband Onderwijs op Maat De Liemers - ECPv5.10.1//NONSGML v1.0//EN
CALSCALE:GREGORIAN
METHOD:PUBLISH
X-WR-CALNAME:Samenwerkingsverband Onderwijs op Maat De Liemers
X-ORIGINAL-URL:https://www.swvdeliemers-po.nl
X-WR-CALDESC:Evenementen voor Samenwerkingsverband Onderwijs op Maat De Liemers
BEGIN:VTIMEZONE
TZID:Europe/Paris
BEGIN:DAYLIGHT
TZOFFSETFROM:+0100
TZOFFSETTO:+0200
TZNAME:CEST
DTSTART:20220327T010000
END:DAYLIGHT
BEGIN:STANDARD
TZOFFSETFROM:+0200
TZOFFSETTO:+0100
TZNAME:CET
DTSTART:20221030T010000
END:STANDARD
END:VTIMEZONE
BEGIN:VEVENT
DTSTART;TZID=Europe/Paris:20221109T150000
DTEND;TZID=Europe/Paris:20221109T161500
DTSTAMP:20260423T125014
CREATED:20220926T145810Z
LAST-MODIFIED:20221017T072413Z
UID:4872-1668006000-1668010500@www.swvdeliemers-po.nl
SUMMARY:Leerkracht-kindtraining Kurzweil
DESCRIPTION:
URL:https://www.swvdeliemers-po.nl/index.php/event/leerkracht-kindtraining-kurzweil/
END:VEVENT
BEGIN:VEVENT
DTSTART;TZID=Europe/Paris:20221107T160000
DTEND;TZID=Europe/Paris:20221107T173900
DTSTAMP:20260423T125014
CREATED:20221006T173637Z
LAST-MODIFIED:20221006T173637Z
UID:4933-1667836800-1667842740@www.swvdeliemers-po.nl
SUMMARY:Netwerk Het Jonge Kind
DESCRIPTION:
URL:https://www.swvdeliemers-po.nl/index.php/event/netwerk-het-jonge-kind-4/
END:VEVENT
BEGIN:VEVENT
DTSTART;TZID=Europe/Paris:20221102T150000
DTEND;TZID=Europe/Paris:20221102T163000
DTSTAMP:20260423T125014
CREATED:20220926T145825Z
LAST-MODIFIED:20220926T145825Z
UID:4873-1667401200-1667406600@www.swvdeliemers-po.nl
SUMMARY:Presentatie DCD
DESCRIPTION:
URL:https://www.swvdeliemers-po.nl/index.php/event/presentatie-dcd/
END:VEVENT
BEGIN:VEVENT
DTSTART;VALUE=DATE:20221024
DTEND;VALUE=DATE:20221025
DTSTAMP:20260423T125014
CREATED:20220926T145810Z
LAST-MODIFIED:20220926T145810Z
UID:4871-1666569600-1666655999@www.swvdeliemers-po.nl
SUMMARY:Herfstvakantie
DESCRIPTION:
URL:https://www.swvdeliemers-po.nl/index.php/event/herfstvakantie-2/
END:VEVENT
BEGIN:VEVENT
DTSTART;TZID=Europe/Paris:20221018T150000
DTEND;TZID=Europe/Paris:20221018T163000
DTSTAMP:20260423T125014
CREATED:20220926T145810Z
LAST-MODIFIED:20220926T145810Z
UID:4870-1666105200-1666110600@www.swvdeliemers-po.nl
SUMMARY:Kurzweiltraining Cloudversie
DESCRIPTION:
URL:https://www.swvdeliemers-po.nl/index.php/event/kurzweiltraining-cloudversie/
END:VEVENT
BEGIN:VEVENT
DTSTART;TZID=Europe/Paris:20221012T191500
DTEND;TZID=Europe/Paris:20221012T211500
DTSTAMP:20260423T125014
CREATED:20220926T145810Z
LAST-MODIFIED:20220926T145810Z
UID:4869-1665602100-1665609300@www.swvdeliemers-po.nl
SUMMARY:Beeldcoaching 3
DESCRIPTION:
URL:https://www.swvdeliemers-po.nl/index.php/event/beeldcoaching-3/
END:VEVENT
BEGIN:VEVENT
DTSTART;TZID=Europe/Paris:20221004T193000
DTEND;TZID=Europe/Paris:20221004T210000
DTSTAMP:20260423T125014
CREATED:20220926T145810Z
LAST-MODIFIED:20220926T145810Z
UID:4868-1664911800-1664917200@www.swvdeliemers-po.nl
SUMMARY:Ouderavond Kurzweil
DESCRIPTION:
URL:https://www.swvdeliemers-po.nl/index.php/event/ouderavond-kurzweil/
END:VEVENT
BEGIN:VEVENT
DTSTART;TZID=Europe/Paris:20220929T193000
DTEND;TZID=Europe/Paris:20220929T213000
DTSTAMP:20260423T125014
CREATED:20220926T145809Z
LAST-MODIFIED:20220926T145809Z
UID:4867-1664479800-1664487000@www.swvdeliemers-po.nl
SUMMARY:OPR
DESCRIPTION:
URL:https://www.swvdeliemers-po.nl/index.php/event/opr/
END:VEVENT
BEGIN:VEVENT
DTSTART;VALUE=DATE:20220928
DTEND;VALUE=DATE:20220929
DTSTAMP:20260423T125014
CREATED:20220203T100958Z
LAST-MODIFIED:20220203T100958Z
UID:4712-1664323200-1664409599@www.swvdeliemers-po.nl
SUMMARY:Landelijke conferentie Beeldcoaching 2022
DESCRIPTION:
URL:https://www.swvdeliemers-po.nl/index.php/event/landelijke-conferentie-beeldcoaching-2022/
LOCATION:Kröller Müller\, Arnhem
END:VEVENT
BEGIN:VEVENT
DTSTART;TZID=Europe/Paris:20220926T160000
DTEND;TZID=Europe/Paris:20220926T200000
DTSTAMP:20260423T125014
CREATED:20220926T145809Z
LAST-MODIFIED:20220926T145809Z
UID:4866-1664208000-1664222400@www.swvdeliemers-po.nl
SUMMARY:Training Systemisch Specialist 1
DESCRIPTION:
URL:https://www.swvdeliemers-po.nl/index.php/event/training-systemisch-specialist-1/
END:VEVENT
BEGIN:VEVENT
DTSTART;TZID=Europe/Paris:20220919T193000
DTEND;TZID=Europe/Paris:20220919T213000
DTSTAMP:20260423T125014
CREATED:20220926T145809Z
LAST-MODIFIED:20220926T145809Z
UID:4865-1663615800-1663623000@www.swvdeliemers-po.nl
SUMMARY:Kenniskring Beeldcoaches
DESCRIPTION:
URL:https://www.swvdeliemers-po.nl/index.php/event/kenniskring-beeldcoaches/
END:VEVENT
BEGIN:VEVENT
DTSTART;TZID=Europe/Paris:20220914T150000
DTEND;TZID=Europe/Paris:20220914T170000
DTSTAMP:20260423T125014
CREATED:20220926T145809Z
LAST-MODIFIED:20220926T145809Z
UID:4864-1663167600-1663174800@www.swvdeliemers-po.nl
SUMMARY:Taakspel Invoeringstraining
DESCRIPTION:
URL:https://www.swvdeliemers-po.nl/index.php/event/taakspel-invoeringstraining/
END:VEVENT
BEGIN:VEVENT
DTSTART;VALUE=DATE:20220905
DTEND;VALUE=DATE:20220906
DTSTAMP:20260423T125014
CREATED:20220926T145809Z
LAST-MODIFIED:20220926T145809Z
UID:4863-1662336000-1662422399@www.swvdeliemers-po.nl
SUMMARY:Start schooljaar
DESCRIPTION:
URL:https://www.swvdeliemers-po.nl/index.php/event/start-schooljaar/
END:VEVENT
BEGIN:VEVENT
DTSTART;VALUE=DATE:20220725
DTEND;VALUE=DATE:20220903
DTSTAMP:20260423T125014
CREATED:20220112T085646Z
LAST-MODIFIED:20220112T085646Z
UID:4460-1658707200-1662163199@www.swvdeliemers-po.nl
SUMMARY:Zomervakantie
DESCRIPTION:
URL:https://www.swvdeliemers-po.nl/index.php/event/zomervakantie/
END:VEVENT
BEGIN:VEVENT
DTSTART;VALUE=DATE:20220606
DTEND;VALUE=DATE:20220607
DTSTAMP:20260423T125014
CREATED:20220112T085646Z
LAST-MODIFIED:20220112T085646Z
UID:4459-1654473600-1654559999@www.swvdeliemers-po.nl
SUMMARY:2e Pinksterdag
DESCRIPTION:
URL:https://www.swvdeliemers-po.nl/index.php/event/2e-pinksterdag/
END:VEVENT
BEGIN:VEVENT
DTSTART;VALUE=DATE:20220605
DTEND;VALUE=DATE:20220606
DTSTAMP:20260423T125014
CREATED:20220112T085646Z
LAST-MODIFIED:20220112T085646Z
UID:4458-1654387200-1654473599@www.swvdeliemers-po.nl
SUMMARY:1e Pinksterdag
DESCRIPTION:
URL:https://www.swvdeliemers-po.nl/index.php/event/1e-pinksterdag/
END:VEVENT
BEGIN:VEVENT
DTSTART;VALUE=DATE:20220526
DTEND;VALUE=DATE:20220527
DTSTAMP:20260423T125014
CREATED:20220112T085646Z
LAST-MODIFIED:20220112T085646Z
UID:4457-1653523200-1653609599@www.swvdeliemers-po.nl
SUMMARY:Hemelvaart
DESCRIPTION:
URL:https://www.swvdeliemers-po.nl/index.php/event/hemelvaart/
END:VEVENT
BEGIN:VEVENT
DTSTART;TZID=Europe/Paris:20220519T160000
DTEND;TZID=Europe/Paris:20220519T173000
DTSTAMP:20260423T125014
CREATED:20220112T085631Z
LAST-MODIFIED:20220112T085631Z
UID:4456-1652976000-1652981400@www.swvdeliemers-po.nl
SUMMARY:Netwerk Het Jonge Kind
DESCRIPTION:
URL:https://www.swvdeliemers-po.nl/index.php/event/netwerk-het-jonge-kind-3/
END:VEVENT
BEGIN:VEVENT
DTSTART;TZID=Europe/Paris:20220518T150000
DTEND;TZID=Europe/Paris:20220518T170000
DTSTAMP:20260423T125014
CREATED:20220112T085631Z
LAST-MODIFIED:20220112T085631Z
UID:4455-1652886000-1652893200@www.swvdeliemers-po.nl
SUMMARY:Kwal.kring gedragsspecialisten
DESCRIPTION:
URL:https://www.swvdeliemers-po.nl/index.php/event/kwal-kring-gedragsspecialisten-3/
END:VEVENT
BEGIN:VEVENT
DTSTART;TZID=Europe/Paris:20220518T090000
DTEND;TZID=Europe/Paris:20220518T124500
DTSTAMP:20260423T125014
CREATED:20220112T085631Z
LAST-MODIFIED:20220112T085631Z
UID:4454-1652864400-1652877900@www.swvdeliemers-po.nl
SUMMARY:IB netwerk
DESCRIPTION:
URL:https://www.swvdeliemers-po.nl/index.php/event/ib-netwerk-3/
END:VEVENT
BEGIN:VEVENT
DTSTART;VALUE=DATE:20220506
DTEND;VALUE=DATE:20220507
DTSTAMP:20260423T125014
CREATED:20220112T085631Z
LAST-MODIFIED:20220112T085631Z
UID:4453-1651795200-1651881599@www.swvdeliemers-po.nl
SUMMARY:Certificering deel 1 en 2 opleiding beeldcoaching
DESCRIPTION:
URL:https://www.swvdeliemers-po.nl/index.php/event/certificering-deel-1-en-2-opleiding-beeldcoaching/
END:VEVENT
BEGIN:VEVENT
DTSTART;VALUE=DATE:20220425
DTEND;VALUE=DATE:20220509
DTSTAMP:20260423T125014
CREATED:20220112T085631Z
LAST-MODIFIED:20220112T085631Z
UID:4452-1650844800-1652054399@www.swvdeliemers-po.nl
SUMMARY:Meivakantie
DESCRIPTION:
URL:https://www.swvdeliemers-po.nl/index.php/event/meivakantie/
END:VEVENT
BEGIN:VEVENT
DTSTART;TZID=Europe/Paris:20220421T153000
DTEND;TZID=Europe/Paris:20220421T170000
DTSTAMP:20260423T125014
CREATED:20220112T085613Z
LAST-MODIFIED:20220112T085613Z
UID:4451-1650555000-1650560400@www.swvdeliemers-po.nl
SUMMARY:Netwerk meer- en hoogbegaafdheid
DESCRIPTION:
URL:https://www.swvdeliemers-po.nl/index.php/event/netwerk-meer-en-hoogbegaafdheid-3/
END:VEVENT
BEGIN:VEVENT
DTSTART;VALUE=DATE:20220418
DTEND;VALUE=DATE:20220419
DTSTAMP:20260423T125014
CREATED:20220112T085613Z
LAST-MODIFIED:20220112T085613Z
UID:4450-1650240000-1650326399@www.swvdeliemers-po.nl
SUMMARY:2e Paasdag
DESCRIPTION:
URL:https://www.swvdeliemers-po.nl/index.php/event/2e-paasdag/
END:VEVENT
BEGIN:VEVENT
DTSTART;VALUE=DATE:20220417
DTEND;VALUE=DATE:20220418
DTSTAMP:20260423T125014
CREATED:20220112T085612Z
LAST-MODIFIED:20220112T085612Z
UID:4449-1650153600-1650239999@www.swvdeliemers-po.nl
SUMMARY:1e Paasdag
DESCRIPTION:
URL:https://www.swvdeliemers-po.nl/index.php/event/1e-paasdag/
END:VEVENT
BEGIN:VEVENT
DTSTART;VALUE=DATE:20220415
DTEND;VALUE=DATE:20220416
DTSTAMP:20260423T125014
CREATED:20220112T085612Z
LAST-MODIFIED:20220112T085612Z
UID:4448-1649980800-1650067199@www.swvdeliemers-po.nl
SUMMARY:Goede vrijdag
DESCRIPTION:
URL:https://www.swvdeliemers-po.nl/index.php/event/goede-vrijdag/
END:VEVENT
BEGIN:VEVENT
DTSTART;TZID=Europe/Paris:20220413T184500
DTEND;TZID=Europe/Paris:20220413T211500
DTSTAMP:20260423T125014
CREATED:20220112T085612Z
LAST-MODIFIED:20220112T085612Z
UID:4447-1649875500-1649884500@www.swvdeliemers-po.nl
SUMMARY:Opleiding tot Beeldoach
DESCRIPTION:
URL:https://www.swvdeliemers-po.nl/index.php/event/opleiding-tot-beeldoach/
END:VEVENT
BEGIN:VEVENT
DTSTART;TZID=Europe/Paris:20220413T150000
DTEND;TZID=Europe/Paris:20220413T170000
DTSTAMP:20260423T125014
CREATED:20220112T085413Z
LAST-MODIFIED:20220112T085413Z
UID:4446-1649862000-1649869200@www.swvdeliemers-po.nl
SUMMARY:Taakspel
DESCRIPTION:
URL:https://www.swvdeliemers-po.nl/index.php/event/taakspel-3/
END:VEVENT
BEGIN:VEVENT
DTSTART;TZID=Europe/Paris:20220413T090000
DTEND;TZID=Europe/Paris:20220413T130000
DTSTAMP:20260423T125014
CREATED:20220112T085413Z
LAST-MODIFIED:20220112T085413Z
UID:4445-1649840400-1649854800@www.swvdeliemers-po.nl
SUMMARY:Studiedag directeuren
DESCRIPTION:
URL:https://www.swvdeliemers-po.nl/index.php/event/studiedag-directeuren/
END:VEVENT
BEGIN:VEVENT
DTSTART;TZID=Europe/Paris:20220411T153000
DTEND;TZID=Europe/Paris:20220411T170000
DTSTAMP:20260423T125014
CREATED:20220112T085412Z
LAST-MODIFIED:20220112T085412Z
UID:4444-1649691000-1649696400@www.swvdeliemers-po.nl
SUMMARY:Netwerk rekenen
DESCRIPTION:
URL:https://www.swvdeliemers-po.nl/index.php/event/netwerk-rekenen-3/
END:VEVENT
END:VCALENDAR