BEGIN:VCALENDAR
VERSION:2.0
PRODID:-//Samenwerkingsverband Onderwijs op Maat De Liemers - ECPv5.10.1//NONSGML v1.0//EN
CALSCALE:GREGORIAN
METHOD:PUBLISH
X-WR-CALNAME:Samenwerkingsverband Onderwijs op Maat De Liemers
X-ORIGINAL-URL:https://www.swvdeliemers-po.nl
X-WR-CALDESC:Evenementen voor Samenwerkingsverband Onderwijs op Maat De Liemers
BEGIN:VTIMEZONE
TZID:Europe/Paris
BEGIN:DAYLIGHT
TZOFFSETFROM:+0100
TZOFFSETTO:+0200
TZNAME:CEST
DTSTART:20240331T010000
END:DAYLIGHT
BEGIN:STANDARD
TZOFFSETFROM:+0200
TZOFFSETTO:+0100
TZNAME:CET
DTSTART:20241027T010000
END:STANDARD
END:VTIMEZONE
BEGIN:VEVENT
DTSTART;TZID=Europe/Paris:20241002T153000
DTEND;TZID=Europe/Paris:20241002T210000
DTSTAMP:20260423T001630
CREATED:20240904T101326Z
LAST-MODIFIED:20240904T101326Z
UID:5675-1727883000-1727902800@www.swvdeliemers-po.nl
SUMMARY:ITTT 2.1
DESCRIPTION:
URL:https://www.swvdeliemers-po.nl/index.php/event/ittt-2-1/
END:VEVENT
BEGIN:VEVENT
DTSTART;TZID=Europe/Paris:20241001T150000
DTEND;TZID=Europe/Paris:20241001T170000
DTSTAMP:20260423T001630
CREATED:20240904T101326Z
LAST-MODIFIED:20240904T101326Z
UID:5674-1727794800-1727802000@www.swvdeliemers-po.nl
SUMMARY:Netwerk bijeenkomst HB
DESCRIPTION:
URL:https://www.swvdeliemers-po.nl/index.php/event/netwerk-bijeenkomst-hb/
END:VEVENT
BEGIN:VEVENT
DTSTART;TZID=Europe/Paris:20240925T153000
DTEND;TZID=Europe/Paris:20240925T210000
DTSTAMP:20260423T001630
CREATED:20240904T101326Z
LAST-MODIFIED:20240904T101326Z
UID:5673-1727278200-1727298000@www.swvdeliemers-po.nl
SUMMARY:ITTT 1.2
DESCRIPTION:
URL:https://www.swvdeliemers-po.nl/index.php/event/ittt-1-2/
END:VEVENT
BEGIN:VEVENT
DTSTART;TZID=Europe/Paris:20240924T153000
DTEND;TZID=Europe/Paris:20240924T173000
DTSTAMP:20260423T001630
CREATED:20240904T101311Z
LAST-MODIFIED:20240904T101311Z
UID:5672-1727191800-1727199000@www.swvdeliemers-po.nl
SUMMARY:Kenniskring gedragsspecialisten
DESCRIPTION:
URL:https://www.swvdeliemers-po.nl/index.php/event/kenniskring-gedragsspecialisten/
END:VEVENT
BEGIN:VEVENT
DTSTART;TZID=Europe/Paris:20240918T171500
DTEND;TZID=Europe/Paris:20240918T193000
DTSTAMP:20260423T001630
CREATED:20240904T101311Z
LAST-MODIFIED:20240904T101311Z
UID:5671-1726679700-1726687800@www.swvdeliemers-po.nl
SUMMARY:Opleiding tot Beeldcoach 2.1 (2e jaar)
DESCRIPTION:
URL:https://www.swvdeliemers-po.nl/index.php/event/opleiding-tot-beeldcoach-2-1-2e-jaar/
END:VEVENT
BEGIN:VEVENT
DTSTART;TZID=Europe/Paris:20240918T120000
DTEND;TZID=Europe/Paris:20240918T170000
DTSTAMP:20260423T001630
CREATED:20240904T101311Z
LAST-MODIFIED:20240904T101311Z
UID:5670-1726660800-1726678800@www.swvdeliemers-po.nl
SUMMARY:CLO
DESCRIPTION:
URL:https://www.swvdeliemers-po.nl/index.php/event/clo-13/
END:VEVENT
BEGIN:VEVENT
DTSTART;TZID=Europe/Paris:20240916T160000
DTEND;TZID=Europe/Paris:20240916T200000
DTSTAMP:20260423T001630
CREATED:20240904T101311Z
LAST-MODIFIED:20240904T101311Z
UID:5669-1726502400-1726516800@www.swvdeliemers-po.nl
SUMMARY:Training Systemisch Specialist 1
DESCRIPTION:
URL:https://www.swvdeliemers-po.nl/index.php/event/training-systemisch-specialist-1-2/
END:VEVENT
BEGIN:VEVENT
DTSTART;TZID=Europe/Paris:20240902T193000
DTEND;TZID=Europe/Paris:20240902T213000
DTSTAMP:20260423T001630
CREATED:20240904T101310Z
LAST-MODIFIED:20240904T101310Z
UID:5668-1725305400-1725312600@www.swvdeliemers-po.nl
SUMMARY:Kenniskring Beeldcoach
DESCRIPTION:
URL:https://www.swvdeliemers-po.nl/index.php/event/kenniskring-beeldcoach/
END:VEVENT
BEGIN:VEVENT
DTSTART;TZID=Europe/Paris:20240902T143000
DTEND;TZID=Europe/Paris:20240902T170000
DTSTAMP:20260423T001630
CREATED:20240904T101310Z
LAST-MODIFIED:20240904T101310Z
UID:5667-1725287400-1725296400@www.swvdeliemers-po.nl
SUMMARY:Bouw! Vaardigheidstraining
DESCRIPTION:
URL:https://www.swvdeliemers-po.nl/index.php/event/bouw-vaardigheidstraining/
END:VEVENT
BEGIN:VEVENT
DTSTART;TZID=Europe/Paris:20240902T113000
DTEND;TZID=Europe/Paris:20240902T140000
DTSTAMP:20260423T001630
CREATED:20240904T101310Z
LAST-MODIFIED:20240904T101310Z
UID:5666-1725276600-1725285600@www.swvdeliemers-po.nl
SUMMARY:Bouw! Verdieping
DESCRIPTION:
URL:https://www.swvdeliemers-po.nl/index.php/event/bouw-verdieping/
END:VEVENT
BEGIN:VEVENT
DTSTART;TZID=Europe/Paris:20240828T153000
DTEND;TZID=Europe/Paris:20240828T210000
DTSTAMP:20260423T001630
CREATED:20240904T101310Z
LAST-MODIFIED:20240904T101310Z
UID:5665-1724859000-1724878800@www.swvdeliemers-po.nl
SUMMARY:ITTT 1.1
DESCRIPTION:
URL:https://www.swvdeliemers-po.nl/index.php/event/ittt-1-1/
END:VEVENT
BEGIN:VEVENT
DTSTART;TZID=Europe/Paris:20240828T120000
DTEND;TZID=Europe/Paris:20240828T120000
DTSTAMP:20260423T001630
CREATED:20240904T101310Z
LAST-MODIFIED:20240904T101310Z
UID:5664-1724846400-1724846400@www.swvdeliemers-po.nl
SUMMARY:CLO
DESCRIPTION:
URL:https://www.swvdeliemers-po.nl/index.php/event/clo-12/
END:VEVENT
BEGIN:VEVENT
DTSTART;TZID=Europe/Paris:20240826T150000
DTEND;TZID=Europe/Paris:20240826T170000
DTSTAMP:20260423T001630
CREATED:20240904T101309Z
LAST-MODIFIED:20240904T101309Z
UID:5663-1724684400-1724691600@www.swvdeliemers-po.nl
SUMMARY:Taakspel invoeringsfase
DESCRIPTION:
URL:https://www.swvdeliemers-po.nl/index.php/event/taakspel-invoeringsfase/
END:VEVENT
BEGIN:VEVENT
DTSTART;TZID=Europe/Paris:20240706T000000
DTEND;TZID=Europe/Paris:20240718T000000
DTSTAMP:20260423T001630
CREATED:20230926T175826Z
LAST-MODIFIED:20230926T175826Z
UID:5172-1720224000-1721260800@www.swvdeliemers-po.nl
SUMMARY:zomervakantie
DESCRIPTION:
URL:https://www.swvdeliemers-po.nl/index.php/event/zomervakantie-3/
END:VEVENT
BEGIN:VEVENT
DTSTART;TZID=Europe/Paris:20240619T184500
DTEND;TZID=Europe/Paris:20240619T211500
DTSTAMP:20260423T001630
CREATED:20230926T175825Z
LAST-MODIFIED:20230926T175825Z
UID:5171-1718822700-1718831700@www.swvdeliemers-po.nl
SUMMARY:Opleiding BC
DESCRIPTION:
URL:https://www.swvdeliemers-po.nl/index.php/event/opleiding-bc-9/
END:VEVENT
BEGIN:VEVENT
DTSTART;TZID=Europe/Paris:20240530T193000
DTEND;TZID=Europe/Paris:20240530T213000
DTSTAMP:20260423T001630
CREATED:20230926T175811Z
LAST-MODIFIED:20230926T175811Z
UID:5170-1717097400-1717104600@www.swvdeliemers-po.nl
SUMMARY:OPR vergadering
DESCRIPTION:
URL:https://www.swvdeliemers-po.nl/index.php/event/opr-vergadering-4/
END:VEVENT
BEGIN:VEVENT
DTSTART;TZID=Europe/Paris:20240527T160000
DTEND;TZID=Europe/Paris:20240527T200000
DTSTAMP:20260423T001630
CREATED:20230926T175811Z
LAST-MODIFIED:20230926T175811Z
UID:5169-1716825600-1716840000@www.swvdeliemers-po.nl
SUMMARY:Training Syst.Specialist
DESCRIPTION:
URL:https://www.swvdeliemers-po.nl/index.php/event/training-syst-specialist/
END:VEVENT
BEGIN:VEVENT
DTSTART;TZID=Europe/Paris:20240522T184500
DTEND;TZID=Europe/Paris:20240522T211500
DTSTAMP:20260423T001630
CREATED:20230926T175811Z
LAST-MODIFIED:20230926T175811Z
UID:5168-1716403500-1716412500@www.swvdeliemers-po.nl
SUMMARY:Opleiding BC
DESCRIPTION:
URL:https://www.swvdeliemers-po.nl/index.php/event/opleiding-bc-8/
END:VEVENT
BEGIN:VEVENT
DTSTART;TZID=Europe/Paris:20240522T130000
DTEND;TZID=Europe/Paris:20240522T170000
DTSTAMP:20260423T001630
CREATED:20230926T175811Z
LAST-MODIFIED:20230926T175811Z
UID:5167-1716382800-1716397200@www.swvdeliemers-po.nl
SUMMARY:CLO
DESCRIPTION:
URL:https://www.swvdeliemers-po.nl/index.php/event/clo-11/
END:VEVENT
BEGIN:VEVENT
DTSTART;TZID=Europe/Paris:20240516T153000
DTEND;TZID=Europe/Paris:20240516T170000
DTSTAMP:20260423T001630
CREATED:20230926T175810Z
LAST-MODIFIED:20230926T175810Z
UID:5166-1715873400-1715878800@www.swvdeliemers-po.nl
SUMMARY:Netwerkbijeenkomst HB
DESCRIPTION:
URL:https://www.swvdeliemers-po.nl/index.php/event/netwerkbijeenkomst-hb-3/
END:VEVENT
BEGIN:VEVENT
DTSTART;TZID=Europe/Paris:20240513T193000
DTEND;TZID=Europe/Paris:20240513T213000
DTSTAMP:20260423T001630
CREATED:20230926T175757Z
LAST-MODIFIED:20230926T175757Z
UID:5165-1715628600-1715635800@www.swvdeliemers-po.nl
SUMMARY:Kenniskring BC
DESCRIPTION:
URL:https://www.swvdeliemers-po.nl/index.php/event/kenniskring-bc-3/
END:VEVENT
BEGIN:VEVENT
DTSTART;VALUE=DATE:20240427
DTEND;VALUE=DATE:20240513
DTSTAMP:20260423T001630
CREATED:20230926T175756Z
LAST-MODIFIED:20230926T175756Z
UID:5164-1714176000-1715558399@www.swvdeliemers-po.nl
SUMMARY:meivakantie
DESCRIPTION:
URL:https://www.swvdeliemers-po.nl/index.php/event/meivakantie-2/
END:VEVENT
BEGIN:VEVENT
DTSTART;TZID=Europe/Paris:20240425T190000
DTEND;TZID=Europe/Paris:20240425T213000
DTSTAMP:20260423T001630
CREATED:20230926T175756Z
LAST-MODIFIED:20230926T175756Z
UID:5163-1714071600-1714080600@www.swvdeliemers-po.nl
SUMMARY:Lezing Executieve functies
DESCRIPTION:
URL:https://www.swvdeliemers-po.nl/index.php/event/lezing-executieve-functies/
END:VEVENT
BEGIN:VEVENT
DTSTART;TZID=Europe/Paris:20240417T130000
DTEND;TZID=Europe/Paris:20240417T170000
DTSTAMP:20260423T001630
CREATED:20230926T175756Z
LAST-MODIFIED:20230926T175756Z
UID:5162-1713358800-1713373200@www.swvdeliemers-po.nl
SUMMARY:CLO
DESCRIPTION:
URL:https://www.swvdeliemers-po.nl/index.php/event/clo-10/
END:VEVENT
BEGIN:VEVENT
DTSTART;TZID=Europe/Paris:20240403T184500
DTEND;TZID=Europe/Paris:20240403T211500
DTSTAMP:20260423T001630
CREATED:20230926T175755Z
LAST-MODIFIED:20230926T175755Z
UID:5161-1712169900-1712178900@www.swvdeliemers-po.nl
SUMMARY:Opleiding BC
DESCRIPTION:
URL:https://www.swvdeliemers-po.nl/index.php/event/opleiding-bc-7/
END:VEVENT
BEGIN:VEVENT
DTSTART;TZID=Europe/Paris:20240327T130000
DTEND;TZID=Europe/Paris:20240327T170000
DTSTAMP:20260423T001630
CREATED:20230926T175709Z
LAST-MODIFIED:20230926T175709Z
UID:5160-1711544400-1711558800@www.swvdeliemers-po.nl
SUMMARY:CLO
DESCRIPTION:
URL:https://www.swvdeliemers-po.nl/index.php/event/clo-9/
END:VEVENT
BEGIN:VEVENT
DTSTART;TZID=Europe/Paris:20240325T160000
DTEND;TZID=Europe/Paris:20240325T200000
DTSTAMP:20260423T001630
CREATED:20230926T175708Z
LAST-MODIFIED:20230926T175708Z
UID:5159-1711382400-1711396800@www.swvdeliemers-po.nl
SUMMARY:Training Systemisch Specialist
DESCRIPTION:
URL:https://www.swvdeliemers-po.nl/index.php/event/training-systemisch-specialist-8/
END:VEVENT
BEGIN:VEVENT
DTSTART;TZID=Europe/Paris:20240318T160000
DTEND;TZID=Europe/Paris:20240318T203000
DTSTAMP:20260423T001630
CREATED:20230926T175708Z
LAST-MODIFIED:20230926T175708Z
UID:5158-1710777600-1710793800@www.swvdeliemers-po.nl
SUMMARY:Supervisie Systemisch Werken
DESCRIPTION:
URL:https://www.swvdeliemers-po.nl/index.php/event/supervisie-systemisch-werken-2/
END:VEVENT
BEGIN:VEVENT
DTSTART;TZID=Europe/Paris:20240306T130000
DTEND;TZID=Europe/Paris:20240306T170000
DTSTAMP:20260423T001630
CREATED:20230926T175708Z
LAST-MODIFIED:20230926T175708Z
UID:5157-1709730000-1709744400@www.swvdeliemers-po.nl
SUMMARY:CLO
DESCRIPTION:
URL:https://www.swvdeliemers-po.nl/index.php/event/clo-8/
END:VEVENT
BEGIN:VEVENT
DTSTART;TZID=Europe/Paris:20240304T193000
DTEND;TZID=Europe/Paris:20240304T213000
DTSTAMP:20260423T001630
CREATED:20230926T175708Z
LAST-MODIFIED:20230926T175708Z
UID:5156-1709580600-1709587800@www.swvdeliemers-po.nl
SUMMARY:Kenniskring BC
DESCRIPTION:
URL:https://www.swvdeliemers-po.nl/index.php/event/kenniskring-bc-2/
END:VEVENT
END:VCALENDAR