BEGIN:VCALENDAR
VERSION:2.0
PRODID:-//Samenwerkingsverband Onderwijs op Maat De Liemers - ECPv5.10.1//NONSGML v1.0//EN
CALSCALE:GREGORIAN
METHOD:PUBLISH
X-WR-CALNAME:Samenwerkingsverband Onderwijs op Maat De Liemers
X-ORIGINAL-URL:https://www.swvdeliemers-po.nl
X-WR-CALDESC:Evenementen voor Samenwerkingsverband Onderwijs op Maat De Liemers
BEGIN:VTIMEZONE
TZID:Europe/Paris
BEGIN:DAYLIGHT
TZOFFSETFROM:+0100
TZOFFSETTO:+0200
TZNAME:CEST
DTSTART:20240331T010000
END:DAYLIGHT
BEGIN:STANDARD
TZOFFSETFROM:+0200
TZOFFSETTO:+0100
TZNAME:CET
DTSTART:20241027T010000
END:STANDARD
END:VTIMEZONE
BEGIN:VEVENT
DTSTART;TZID=Europe/Paris:20241106T120000
DTEND;TZID=Europe/Paris:20241106T170000
DTSTAMP:20260422T174858
CREATED:20240904T101356Z
LAST-MODIFIED:20240904T101356Z
UID:5684-1730894400-1730912400@www.swvdeliemers-po.nl
SUMMARY:CLO
DESCRIPTION:
URL:https://www.swvdeliemers-po.nl/index.php/event/clo-15/
END:VEVENT
BEGIN:VEVENT
DTSTART;TZID=Europe/Paris:20241106T160000
DTEND;TZID=Europe/Paris:20241106T203000
DTSTAMP:20260422T174858
CREATED:20240904T101356Z
LAST-MODIFIED:20240904T101356Z
UID:5685-1730908800-1730925000@www.swvdeliemers-po.nl
SUMMARY:Supervisie voor spec. in communicatie
DESCRIPTION:
URL:https://www.swvdeliemers-po.nl/index.php/event/supervisie-voor-spec-in-communicatie/
END:VEVENT
END:VCALENDAR