BEGIN:VCALENDAR
VERSION:2.0
PRODID:-//Samenwerkingsverband Onderwijs op Maat De Liemers - ECPv5.10.1//NONSGML v1.0//EN
CALSCALE:GREGORIAN
METHOD:PUBLISH
X-WR-CALNAME:Samenwerkingsverband Onderwijs op Maat De Liemers
X-ORIGINAL-URL:https://www.swvdeliemers-po.nl
X-WR-CALDESC:Evenementen voor Samenwerkingsverband Onderwijs op Maat De Liemers
BEGIN:VTIMEZONE
TZID:Europe/Paris
BEGIN:DAYLIGHT
TZOFFSETFROM:+0100
TZOFFSETTO:+0200
TZNAME:CEST
DTSTART:20240331T010000
END:DAYLIGHT
BEGIN:STANDARD
TZOFFSETFROM:+0200
TZOFFSETTO:+0100
TZNAME:CET
DTSTART:20241027T010000
END:STANDARD
END:VTIMEZONE
BEGIN:VEVENT
DTSTART;TZID=Europe/Paris:20241007T160000
DTEND;TZID=Europe/Paris:20241007T200000
DTSTAMP:20260422T084703
CREATED:20240904T101326Z
LAST-MODIFIED:20240904T101326Z
UID:5676-1728316800-1728331200@www.swvdeliemers-po.nl
SUMMARY:Training Systemisch Specialist 2
DESCRIPTION:
URL:https://www.swvdeliemers-po.nl/index.php/event/training-systemisch-specialist-2-2/
END:VEVENT
END:VCALENDAR